BEGIN:VCALENDAR
VERSION:2.0
PRODID:test.reiseregion-flaeming.de
BEGIN:VEVENT
UID:69e75f8145c7d
DTSTART:20260704T140000Z
SEQUENCE:0
TRANSP:OPAQUE
DTEND:20260704T200000Z
URL:http://test.reiseregion-flaeming.de/veranstaltung/seenland-oder-spree/n
 achtangeln
LOCATION:Mouschenzsee Müllrose\, Seeallee 53\, 15299 Müllrose
X-APPLE-STRUCTURED-LOCATION;VALUE=URI;X-ADDRESS="Mouschenzsee Müllrose, Se
 eallee 53, 15299 Müllrose";X-APPLE-RADIUS=49;X-TITLE=Mouschenzsee Müllro
 se:geo:14.423850,52.226772
GEO:14.423850;52.226772
SUMMARY:Nachtangeln
CLASS:PUBLIC
DESCRIPTION:Der Müllroser Anglerverein 1949 e. V. organisiert Veranstaltun
 gen auch für die jüngesten Angelfreunde.\n\nKontakt:\n\nMüllroser Angle
 rverein 1949 e.V.\nLutz Christoph\nKirschweg 11\n15299 Müllrose\nTelefon:
  +49 173  6469564\nEmail: angelgott.christoph02@gmail.com\n\nWeitere Infor
 mationen zur Veranstaltung: http://test.reiseregion-flaeming.de/veranstalt
 ung/seenland-oder-spree/nachtangeln
CATEGORIES:Sport
DTSTAMP:20260421T112905Z
END:VEVENT
END:VCALENDAR