BEGIN:VCALENDAR
VERSION:2.0
PRODID:test.reiseregion-flaeming.de
BEGIN:VEVENT
UID:69e794cb33a90
DTSTART:20260626T160000Z
SEQUENCE:0
TRANSP:OPAQUE
DTEND:20260626T220000Z
URL:http://test.reiseregion-flaeming.de/veranstaltung/seenland-oder-spree/d
 orffest-mixdorf
LOCATION:Festplatz Mixdorf\, Neue Straße 11\, 15299 Mixdorf
X-APPLE-STRUCTURED-LOCATION;VALUE=URI;X-ADDRESS="Festplatz Mixdorf, Neue St
 raße 11, 15299 Mixdorf";X-APPLE-RADIUS=49;X-TITLE=Festplatz Mixdorf:geo:1
 4.408015,52.195215
GEO:14.408015;52.195215
SUMMARY:Dorffest Mixdorf
CLASS:PUBLIC
DESCRIPTION:Die Gemeinde Mixdorf lädt zum gemütlichen Dorffest.\n\nKontak
 t:\n\nGemeinde Mixdorf\nAndreas Apel\nBahnhofstraße 40\n15299 Müllrose\n
 Telefon: +49 33606 8990\nEmail: post@amt-schlaubetal.de\n\nWeitere Informa
 tionen zur Veranstaltung: http://test.reiseregion-flaeming.de/veranstaltun
 g/seenland-oder-spree/dorffest-mixdorf
CATEGORIES:Fest / Brauchtum,Kinder und Jugendliche
DTSTAMP:20260421T151627Z
END:VEVENT
BEGIN:VEVENT
UID:69e794cb35e03
DTSTART:20260627T090000Z
SEQUENCE:0
TRANSP:OPAQUE
DTEND:20260627T220000Z
URL:http://test.reiseregion-flaeming.de/veranstaltung/seenland-oder-spree/d
 orffest-mixdorf
LOCATION:Festplatz Mixdorf\, Neue Straße 11\, 15299 Mixdorf
X-APPLE-STRUCTURED-LOCATION;VALUE=URI;X-ADDRESS="Festplatz Mixdorf, Neue St
 raße 11, 15299 Mixdorf";X-APPLE-RADIUS=49;X-TITLE=Festplatz Mixdorf:geo:1
 4.408015,52.195215
GEO:14.408015;52.195215
SUMMARY:Dorffest Mixdorf
CLASS:PUBLIC
DESCRIPTION:Die Gemeinde Mixdorf lädt zum gemütlichen Dorffest.\n\nKontak
 t:\n\nGemeinde Mixdorf\nAndreas Apel\nBahnhofstraße 40\n15299 Müllrose\n
 Telefon: +49 33606 8990\nEmail: post@amt-schlaubetal.de\n\nWeitere Informa
 tionen zur Veranstaltung: http://test.reiseregion-flaeming.de/veranstaltun
 g/seenland-oder-spree/dorffest-mixdorf
CATEGORIES:Fest / Brauchtum,Kinder und Jugendliche
DTSTAMP:20260421T151627Z
END:VEVENT
END:VCALENDAR