BEGIN:VCALENDAR
VERSION:2.0
PRODID:test.reiseregion-flaeming.de
BEGIN:VEVENT
UID:69e75dc8822c4
DTSTART:20260530T080000Z
SEQUENCE:0
TRANSP:OPAQUE
DTEND:20260530T140000Z
URL:http://test.reiseregion-flaeming.de/veranstaltung/havelland/tag-des-bev
 oelkerungsschutzes
LOCATION:Feuerwehrtechnisches- und Katastrophenschutzzentrum des Landkreise
 s Havelland\, Berliner Allee  30\, 14662 Friesack
X-APPLE-STRUCTURED-LOCATION;VALUE=URI;X-ADDRESS="Feuerwehrtechnisches- und 
 Katastrophenschutzzentrum des Landkreises Havelland, Berliner Allee  30, 1
 4662 Friesack";X-APPLE-RADIUS=49;X-TITLE=Feuerwehrtechnisches- und Katastr
 ophenschutzzentrum des Landkreises Havelland:geo:12.581555,52.729814
GEO:12.581555;52.729814
SUMMARY:Tag des Bevölkerungsschutzes
CLASS:PUBLIC
DESCRIPTION:Zum zweiten Mal veranstaltet der Landkreis Havelland den Tag de
 s Bevölkerungsschutzes im FTZ Friesack und lädt alle Bürgerinnen und B
 ürger herzlich ein\, einen Blick hinter die Kulissen des Katastrophenschu
 tzes zu werfen.  Erleben Sie hautnah\, wie die verschiedenen Einsatzkräft
 e im Ernstfall zusammenarbeiten\, welche Technik zum Einsatz kommt und wie
  vielfältig die Aufgaben im Bevölkerungsschutz sind. Zahlreiche Organisa
 tionen und Aussteller präsentieren ihre Arbeit und stehen für Fragen und
  Gespräche zur Verfügung.  Freuen Sie sich auf ein vielfältiges und spa
 nnendes Programm mit zahlreichen Highlights: Erleben Sie eindrucksvolle Vo
 rführungen von Tauchern bei Unterwasserarbeiten direkt vor Ort\, bestaune
 n Sie einen Löschpanzer sowie verschiedene Militärgeräte und erhalten S
 ie spannende Einblicke in die Atemschutzübungsstrecke.  Wer selbst aktiv 
 werden möchte\, kann das Löschen von Kleinbränden mit dem Handfeuerlös
 cher ausprobieren oder den Löschroboter bei einer Vorführung in Aktion e
 rleben. Auch moderne Technik kommt nicht zu kurz: Beim Radladerfahren mit 
 der VR-Brille können Sie Ihr Geschick unter Beweis stellen und einen ganz
  neuen Blick auf Einsatztechnik gewinnen.  Für die kleinen Besucherinnen 
 und Besucher ist ebenfalls bestens gesorgt: eine Hüpfburg und eine Bobbyc
 arstrecke laden zum Spielen und Austoben ein.  Und das ist noch lange nich
 t alles: Viele weitere spannende Aktionen und Mitmachangebote warten darau
 f\, von Ihnen entdeckt zu werden!  Der Tag des Bevölkerungsschutzes im Ha
 velland verbindet Information\, Erlebnis und Begegnung und wird so zu eine
 m besonderen Tag für die ganze Familie.\n\nKontakt:\n\nLandkreis Havellan
 d\nPlatz der Freiheit 1\n14712 Rathenow\nTelefon: +49 3385 551-4417\nEmail
 : \n\nWeitere Informationen zur Veranstaltung: http://test.reiseregion-fla
 eming.de/veranstaltung/havelland/tag-des-bevoelkerungsschutzes
CATEGORIES:Kinder und Jugendliche,Führung / Besichtigung
DTSTAMP:20260421T112144Z
END:VEVENT
END:VCALENDAR