BEGIN:VCALENDAR
VERSION:2.0
PRODID:test.reiseregion-flaeming.de
BEGIN:VEVENT
UID:69e7a6b4888c2
DTSTART:20260613T170000Z
SEQUENCE:0
TRANSP:OPAQUE
DTEND:20260613T200000Z
URL:http://test.reiseregion-flaeming.de/veranstaltung/seenland-oder-spree/t
 obi-stock-und-manfred-pankow-spielen-gundermann
LOCATION:Krug zum Schlaubetal\, Hauptstraße 19\, 15299 Mixdorf
X-APPLE-STRUCTURED-LOCATION;VALUE=URI;X-ADDRESS="Krug zum Schlaubetal, Haup
 tstraße 19, 15299 Mixdorf";X-APPLE-RADIUS=49;X-TITLE=Krug zum Schlaubetal
 :geo:14.406651,52.195378
GEO:14.406651;52.195378
SUMMARY:Tobi Stock & Manfred Pankow spielen Gundermann
CLASS:PUBLIC
DESCRIPTION:Musikalischer Abend mit Liedern von Gerhard Gundermann\, dem ei
 nst singenden Baggerfahrer aus dem Tagebau.\n\nKontakt:\n\nDieter-Lothar M
 utke\n\n \nTelefon: +49 0152 55301187\nEmail: dlmx@web.de\n\nWeitere Infor
 mationen zur Veranstaltung: http://test.reiseregion-flaeming.de/veranstalt
 ung/seenland-oder-spree/tobi-stock-und-manfred-pankow-spielen-gundermann
CATEGORIES:Rock / Pop / Jazz
DTSTAMP:20260421T163252Z
END:VEVENT
END:VCALENDAR