BEGIN:VCALENDAR
VERSION:2.0
PRODID:test.reiseregion-flaeming.de
BEGIN:VEVENT
UID:69e7c08e83bf6
DTSTART:20260517T130000Z
SEQUENCE:0
TRANSP:OPAQUE
DTEND:20260517T160000Z
URL:http://test.reiseregion-flaeming.de/veranstaltung/seenland-oder-spree/i
 nternationaler-museumstag-im-schlaubetal
LOCATION:Heimatstube Rießen\, Am Dorfanger\, 15890 Siehdichum
X-APPLE-STRUCTURED-LOCATION;VALUE=URI;X-ADDRESS="Heimatstube Rießen, Am Do
 rfanger, 15890 Siehdichum";X-APPLE-RADIUS=49;X-TITLE=Heimatstube Rießen:g
 eo:14.468519,52.190800
GEO:14.468519;52.190800
SUMMARY:Internationaler Museumstag im Schlaubetal
CLASS:PUBLIC
DESCRIPTION:Wissenswertes zur Dorfgeschichte von Rießen.\n\nKontakt:\n\nSt
 effi Zimmerling\n\n \nTelefon: \nEmail: pfeffi8@web.de\n\nWeitere Informat
 ionen zur Veranstaltung: http://test.reiseregion-flaeming.de/veranstaltung
 /seenland-oder-spree/internationaler-museumstag-im-schlaubetal
CATEGORIES:Ausstellung
DTSTAMP:20260421T182310Z
END:VEVENT
END:VCALENDAR