BEGIN:VCALENDAR
VERSION:2.0
PRODID:test.reiseregion-flaeming.de
BEGIN:VEVENT
UID:69e7541d47b1b
DTSTART:20260430T160000Z
SEQUENCE:0
TRANSP:OPAQUE
DTEND:20260430T190000Z
URL:http://test.reiseregion-flaeming.de/veranstaltung/spreewald/aufstellen-
 des-maibaums
LOCATION:Marktplatz Lieberose\, Marktplatz\, 15868 Lieberose
X-APPLE-STRUCTURED-LOCATION;VALUE=URI;X-ADDRESS="Marktplatz Lieberose, Mark
 tplatz, 15868 Lieberose";X-APPLE-RADIUS=49;X-TITLE=Marktplatz Lieberose:ge
 o:14.299411,51.988375
GEO:14.299411;51.988375
SUMMARY:Aufstellen des Maibaums
CLASS:PUBLIC
DESCRIPTION:Die Lieberoser Feuerwehr stellt traditionell den Maibaum auf.\n
 \nKontakt:\n\nFreiwillige Feuerwehr Lieberose e.V.\nGander  17\n15868 Lieb
 erose\nTelefon: +49 0162 3468071\nEmail: \n\nWeitere Informationen zur Ver
 anstaltung: http://test.reiseregion-flaeming.de/veranstaltung/spreewald/au
 fstellen-des-maibaums
CATEGORIES:Fest / Brauchtum
DTSTAMP:20260421T104029Z
END:VEVENT
END:VCALENDAR