BEGIN:VCALENDAR
VERSION:2.0
PRODID:test.reiseregion-flaeming.de
BEGIN:VEVENT
UID:69e76bb307056
DTSTART:20261225T103000Z
SEQUENCE:0
TRANSP:OPAQUE
DTEND:20261225T140000Z
URL:http://test.reiseregion-flaeming.de/veranstaltung/lausitzer-seenland/we
 ihnachtsbrunch
LOCATION:Restaurant & Hotel Georgenberg\, Slamener Höhe 19\, 03130 Sprembe
 rg
X-APPLE-STRUCTURED-LOCATION;VALUE=URI;X-ADDRESS="Restaurant & Hotel Georgen
 berg, Slamener Höhe 19, 03130 Spremberg";X-APPLE-RADIUS=49;X-TITLE=Restau
 rant & Hotel Georgenberg:geo:14.393037,51.573186
GEO:14.393037;51.573186
SUMMARY:Weihnachtsbrunch
CLASS:PUBLIC
DESCRIPTION:Buffet\, Kaffee und Mineralwasser inklusive\n\nKontakt:\n\nRest
 aurant & Hotel Georgenberg\nSlamener Höhe  19\n03130 Spremberg\nTelefon: 
 +49 3563 34250\nEmail: \nWebseite: https://www.hotel-georgenberg.de/\n\nWe
 itere Informationen zur Veranstaltung: http://test.reiseregion-flaeming.de
 /veranstaltung/lausitzer-seenland/weihnachtsbrunch
CATEGORIES:Essen und Trinken
DTSTAMP:20260421T122107Z
END:VEVENT
BEGIN:VEVENT
UID:69e76bb34b4c0
DTSTART:20261226T103000Z
SEQUENCE:0
TRANSP:OPAQUE
DTEND:20261226T140000Z
URL:http://test.reiseregion-flaeming.de/veranstaltung/lausitzer-seenland/we
 ihnachtsbrunch
LOCATION:Restaurant & Hotel Georgenberg\, Slamener Höhe 19\, 03130 Sprembe
 rg
X-APPLE-STRUCTURED-LOCATION;VALUE=URI;X-ADDRESS="Restaurant & Hotel Georgen
 berg, Slamener Höhe 19, 03130 Spremberg";X-APPLE-RADIUS=49;X-TITLE=Restau
 rant & Hotel Georgenberg:geo:14.393037,51.573186
GEO:14.393037;51.573186
SUMMARY:Weihnachtsbrunch
CLASS:PUBLIC
DESCRIPTION:Buffet\, Kaffee und Mineralwasser inklusive\n\nKontakt:\n\nRest
 aurant & Hotel Georgenberg\nSlamener Höhe  19\n03130 Spremberg\nTelefon: 
 +49 3563 34250\nEmail: \nWebseite: https://www.hotel-georgenberg.de/\n\nWe
 itere Informationen zur Veranstaltung: http://test.reiseregion-flaeming.de
 /veranstaltung/lausitzer-seenland/weihnachtsbrunch
CATEGORIES:Essen und Trinken
DTSTAMP:20260421T122107Z
END:VEVENT
END:VCALENDAR