BEGIN:VCALENDAR
VERSION:2.0
PRODID:test.reiseregion-flaeming.de
BEGIN:VEVENT
UID:69e7b1d34f2c8
DTSTART:20261106T180000Z
SEQUENCE:0
TRANSP:OPAQUE
DTEND:20261106T200000Z
URL:http://test.reiseregion-flaeming.de/veranstaltung/lausitzer-seenland/ma
 gic-dinner-show-mit-florian-poldrack-inkl-3-gaenge-menue-aperitif-wunderwe
 lt-der-traeume
LOCATION:Restaurant & Hotel Georgenberg\, Slamener Höhe 19\, 03130 Sprembe
 rg
X-APPLE-STRUCTURED-LOCATION;VALUE=URI;X-ADDRESS="Restaurant & Hotel Georgen
 berg, Slamener Höhe 19, 03130 Spremberg";X-APPLE-RADIUS=49;X-TITLE=Restau
 rant & Hotel Georgenberg:geo:14.393037,51.573186
GEO:14.393037;51.573186
SUMMARY:Magic Dinner Show mit Florian Poldrack inkl. 3-Gänge-Menü | Aperi
 tif WUNDERWELT DER TRÄUME
CLASS:PUBLIC
DESCRIPTION:Wunderwelt der Träume inkl. 3-Gänge-Menü  und Aperitif.\n\nK
 ontakt:\n\nRestaurant & Hotel Georgenberg\nSlamener Höhe  19\n03130 Sprem
 berg\nTelefon: +49 3563 34250\nEmail: \nWebseite: https://www.hotel-george
 nberg.de/\n\nWeitere Informationen zur Veranstaltung: http://test.reisereg
 ion-flaeming.de/veranstaltung/lausitzer-seenland/magic-dinner-show-mit-flo
 rian-poldrack-inkl-3-gaenge-menue-aperitif-wunderwelt-der-traeume
CATEGORIES:Theater / Tanz / Kabarett
DTSTAMP:20260421T172019Z
END:VEVENT
END:VCALENDAR