BEGIN:VCALENDAR
VERSION:2.0
PRODID:test.reiseregion-flaeming.de
BEGIN:VEVENT
UID:69e4d64c82589
DTSTART:20260507T160000Z
SEQUENCE:0
TRANSP:OPAQUE
DTEND:20260507T173000Z
URL:http://test.reiseregion-flaeming.de/veranstaltung/seenland-oder-spree/b
 uchvorstellung-das-haus-der-dreiseitels-christina-schmidt
LOCATION:Cafe Europa\, Lindenstr. 5\, 15230 Frankfurt (Oder)
X-APPLE-STRUCTURED-LOCATION;VALUE=URI;X-ADDRESS="Cafe Europa, Lindenstr. 5,
  15230 Frankfurt (Oder)";X-APPLE-RADIUS=49;X-TITLE=Cafe Europa:geo:14.5516
 32,52.342700
GEO:14.551632;52.342700
SUMMARY:Buchvorstellung: Das Haus der Dreiseitels. Christina Schmidt
CLASS:PUBLIC
DESCRIPTION:Wie erinnert man sich an eine Familie\, deren Wege sich über J
 ahrhunderte und Länder hinweg verloren haben? Dieses Buch erzählt die Ge
 schichte der Familie Dreiseitel\, die um 1800 aus Mähren nach Ostgalizien
  (heutige Ukraine) kam\, dort eine Brauerei gründete und Teil der deutsch
 en Minderheit war – bis zur Umsiedlung und Vertreibung 1939. Auf der Gru
 ndlage von Zeitzeugeninterviews\, Dokumenten und Archivfunden rekonstruier
 t die Autorin das Leben mehrerer Generationen – von den Anfängen in Gal
 izien über die Flucht und Neuansiedlung in der DDR bis hin zu den Nachwir
 kungen in der zweiten und dritten Generation. Dabei entsteht ein beeindruc
 kendes Panorama europäischer Geschichte im 20. Jahrhundert geprägt von M
 igration\, Verlust\, Neuanfang und dem Fortwirken transgenerationaler Trau
 mata. Zugleich ist es die persönliche Erzählung einer Spurensuche – ei
 ner Annäherung an das eigene Erbe\, an das Schweigen und die Brüche in e
 iner Familie\, deren Geschichte exemplarisch für viele steht. Ein bewegen
 des Buch über Erinnerung\, Identität und die langen Schatten der Geschic
 hte – für alle\, die sich für Osteuropa\, Flucht und Vertreibung\, Fam
 ilienforschung und Oral History interessieren.\n\nChristina Schmidt\, Mode
 ration Magda Abraham-Diefenbach  \nOrt: Café Europa\, Lindenstraße 5\n\n
 Kontakt:\n\nFrankfurter Kunstverein e.V.\nLindenstrasse 4\n15230 Frankfurt
  (Oder)\nTelefon: +49 335 23367\nEmail: vorstand@ffkv.info\nWebseite: http
 s://ffkv.info\n\nWeitere Informationen zur Veranstaltung: http://test.reis
 eregion-flaeming.de/veranstaltung/seenland-oder-spree/buchvorstellung-das-
 haus-der-dreiseitels-christina-schmidt
CATEGORIES:Lesung / Vortrag
DTSTAMP:20260419T131908Z
END:VEVENT
END:VCALENDAR