BEGIN:VCALENDAR
VERSION:2.0
PRODID:test.reiseregion-flaeming.de
BEGIN:VEVENT
UID:69e7564049c70
DTSTART:20260621T070000Z
SEQUENCE:0
TRANSP:OPAQUE
DTEND:20260621T170000Z
URL:http://test.reiseregion-flaeming.de/veranstaltung/spreewald/8-schlossin
 sellauf
LOCATION:Schlossinsel Lübben\, Ernst-von-Houwald Damm 15\, 15907 Lübben (
 Spreewald)
X-APPLE-STRUCTURED-LOCATION;VALUE=URI;X-ADDRESS="Schlossinsel Lübben, Erns
 t-von-Houwald Damm 15, 15907 Lübben (Spreewald)";X-APPLE-RADIUS=49;X-TITL
 E=Schlossinsel Lübben:geo:13.897321,51.938866
GEO:13.897321;51.938866
SUMMARY:8. Schlossinsellauf
CLASS:PUBLIC
DESCRIPTION:\n\nKontakt:\n\nEvangelischer Schulverein Lübben e. V.\nBerlin
 er Straße 21\n15907 Lübben (Spreewald)\nTelefon: +49 03546 226503\nEmail
 : vorstand@ev-schulverein-luebben.de\nWebseite: https://www.evangelischer-
 schulverein-luebben.de/index.php\n\nWeitere Informationen zur Veranstaltun
 g: http://test.reiseregion-flaeming.de/veranstaltung/spreewald/8-schlossin
 sellauf
CATEGORIES:Sport
DTSTAMP:20260421T104936Z
END:VEVENT
END:VCALENDAR