BEGIN:VCALENDAR
VERSION:2.0
PRODID:test.reiseregion-flaeming.de
BEGIN:VEVENT
UID:69e792d3d320b
DTSTART:20260815T093000Z
SEQUENCE:0
TRANSP:OPAQUE
DTEND:20260815T110000Z
URL:http://test.reiseregion-flaeming.de/veranstaltung/barnimer-land/museums
 fuehrungen-bernau-steintor
LOCATION:Museum im Steintor\, Hussitenstraße 1\, 16321 Bernau bei Berlin
X-APPLE-STRUCTURED-LOCATION;VALUE=URI;X-ADDRESS="Museum im Steintor, Hussit
 enstraße 1, 16321 Bernau bei Berlin";X-APPLE-RADIUS=49;X-TITLE=Museum im 
 Steintor:geo:13.591852,52.678911
GEO:13.591852;52.678911
SUMMARY:Museumsführungen Bernau Steintor
CLASS:PUBLIC
DESCRIPTION:Bernauer Museumsführungen – Geschichte und Ausstellungen ent
 decken\n\nTauchen Sie bei den Bernauer Museumsführungen in die spannenden
  Ausstellungen der Museen in Bernau bei Berlin ein. Bei einer geführten T
 our erhalten Sie interessante Einblicke in die Geschichte der Stadt und en
 tdecken besondere Exponate\, die von vergangenen Zeiten und prägenden Ere
 ignissen erzählen.\n\nDie Führungen finden in zwei historischen Gebäude
 n statt: im Museum im Henkerhaus und im Museum im Steintor. Beide Orte bie
 ten auf unterschiedliche Weise spannende Perspektiven auf die Entwicklung 
 der Stadt und das Leben der Menschen in Bernau.\n\nWährend der Rundgänge
  erläutern unsere Guides ausgewählte Ausstellungsstücke\, historische Z
 usammenhänge und besondere Geschichten rund um Bernau bei Berlin – ansc
 haulich\, informativ und unterhaltsam erzählt.\n\nDie Museumsführungen r
 ichten sich an Geschichts- und Kulturinteressierte\, Besucher sowie Einhei
 mische\, die die Bernauer Museen und ihre Ausstellungen näher kennenlerne
 n möchten.\n\nEntdecken Sie die Geschichte von Bernau bei Berlin – bei 
 einer geführten Tour durch die Museen der Stadt.\n\nKontakt:\n\nTourist-I
 nformation Bernau\nBürgermeisterstraße 4\n16321 Bernau bei Berlin\nTelef
 on: +49 3338 376591\nEmail: tourismus@best-bernau.de\nWebseite: https://ww
 w.bernau-besuchen.de\n\nWeitere Informationen zur Veranstaltung: http://te
 st.reiseregion-flaeming.de/veranstaltung/barnimer-land/museumsfuehrungen-b
 ernau-steintor
CATEGORIES:Führung / Besichtigung
DTSTAMP:20260421T150803Z
END:VEVENT
END:VCALENDAR