BEGIN:VCALENDAR
VERSION:2.0
PRODID:test.reiseregion-flaeming.de
BEGIN:VEVENT
UID:69e75d74a1270
DTSTART:20260607T120000Z
SEQUENCE:0
TRANSP:OPAQUE
DTEND:20260607T150000Z
URL:http://test.reiseregion-flaeming.de/veranstaltung/spreewald/summer-stag
 e-open-air-konzert-der-musikschule-froehlich
LOCATION:Schlossinsel Lübben\, Ernst-von-Houwald Damm 15\, 15907 Lübben (
 Spreewald)
X-APPLE-STRUCTURED-LOCATION;VALUE=URI;X-ADDRESS="Schlossinsel Lübben, Erns
 t-von-Houwald Damm 15, 15907 Lübben (Spreewald)";X-APPLE-RADIUS=49;X-TITL
 E=Schlossinsel Lübben:geo:13.897321,51.938866
GEO:13.897321;51.938866
SUMMARY:Summer Stage - Open-Air-Konzert der Musikschule Fröhlich
CLASS:PUBLIC
DESCRIPTION:Erlebe den Höhepunkt des Sommers mit dem \"Summer Stage 2025\"
  Open-Air Konzert der Musikschule Fröhlich! Ein Konzert\, das gemeinsam g
 estaltet wird von den MusiKunde-Schülern aus den Kitas\, den Melodika- un
 d Akkordeon-Schülern unserer Grundschulen und den Orchestern Spreewälder
  AKKORD Orchester & Berstetaler Big Band. Alles Schüler aus und um Lübbe
 n/ Luckau von Carina Cal\, Anne & Max Rinka.\n\nTauche ein in fesselnde Li
 ve-Musik\, präsentiert auf einer der größten Festival-Bühnen und umgeb
 en von einer einzigartigen Atmosphäre. Feiere die Musik mit uns unter fre
 iem Himmel!  Dieses Konzert wird durchgeführt von SchülerInnen der Musik
 schule Fröhlich aus Lübben\, Luckau und den umliegenden Dörfern.\n\nKon
 takt:\n\nMusikschule Fröhlich Max Rinka\nLieberoser Straße 58\n15907 Lü
 bben (Spreewald)\nTelefon: +49 0152 55473039\nEmail: max.rinka@musikschule
 -froehlich.de\nWebseite: https://www.musikschule-froehlich.com/rinka\n\nWe
 itere Informationen zur Veranstaltung: http://test.reiseregion-flaeming.de
 /veranstaltung/spreewald/summer-stage-open-air-konzert-der-musikschule-fro
 ehlich
CATEGORIES:Chor / Folklore / Volksmusik
DTSTAMP:20260421T112021Z
END:VEVENT
END:VCALENDAR