BEGIN:VCALENDAR
VERSION:2.0
PRODID:test.reiseregion-flaeming.de
BEGIN:VEVENT
UID:69e7d0a83b463
DTSTART:20260920T120000Z
SEQUENCE:0
TRANSP:OPAQUE
DTEND:20260920T140000Z
URL:http://test.reiseregion-flaeming.de/veranstaltung/seenland-oder-spree/a
 bschluss-sammeltassencafe-und-backofenfest
LOCATION:Schweizerhaus Seelow\, Am Schweizerhaus 1-5\, 15306 Seelow
X-APPLE-STRUCTURED-LOCATION;VALUE=URI;X-ADDRESS="Schweizerhaus Seelow, Am S
 chweizerhaus 1-5, 15306 Seelow";X-APPLE-RADIUS=49;X-TITLE=Schweizerhaus Se
 elow:geo:14.399518,52.532837
GEO:14.399518;52.532837
SUMMARY:Abschluss Sammeltassencafé und Backofenfest
CLASS:PUBLIC
DESCRIPTION:\n\nKontakt:\n\nSchweizerhaus Seelow\nAm Schweizerhaus 1-5\n153
 06 Seelow (Seenland Oder-Spree)\nTelefon: +49 3346 42 91 91 0\nEmail: info
 @heimatverein-seelow.de\n\nWeitere Informationen zur Veranstaltung: http:/
 /test.reiseregion-flaeming.de/veranstaltung/seenland-oder-spree/abschluss-
 sammeltassencafe-und-backofenfest
CATEGORIES:Fest / Brauchtum
DTSTAMP:20260421T193152Z
END:VEVENT
END:VCALENDAR