BEGIN:VCALENDAR
VERSION:2.0
PRODID:test.reiseregion-flaeming.de
BEGIN:VEVENT
UID:69e759d23281d
DTSTART:20260423T160000Z
SEQUENCE:0
TRANSP:OPAQUE
DTEND:20260423T180000Z
URL:http://test.reiseregion-flaeming.de/veranstaltung/lausitzer-seenland/me
 ditationsabend-ein-herzens-und-geistestraining
LOCATION:Kulturfabrik Hoyerswerda e.V.\, Braugasse 1\, 02977 Hoyerswerda
X-APPLE-STRUCTURED-LOCATION;VALUE=URI;X-ADDRESS="Kulturfabrik Hoyerswerda e
 .V., Braugasse 1, 02977 Hoyerswerda";X-APPLE-RADIUS=49;X-TITLE=Kulturfabri
 k Hoyerswerda e.V.:geo:14.245518,51.439178
GEO:14.245518;51.439178
SUMMARY:Meditationsabend - ein Herzens- und Geistestraining
CLASS:PUBLIC
DESCRIPTION:In Gemeinschaft zu meditieren ist von unschätzbarem Wert und w
 irkt sehr unterstützend. Das Angebot ist für alle geeignet – unabhäng
 ig von Alter\, körperlicher Konstitution sowie kulturellem oder religiös
 em Hintergrund. Vorerfahrungen sind nicht erforderlich.\n\nDurch regelmä
 ßige Meditation\, also das bewusste Trainieren von Achtsamkeit und Mitgef
 ühl\, können sich Ruhe\, Gelassenheit\, Akzeptanz und innere Freiheit en
 twickeln. Sie kann helfen\, den Umgang mit Stress und automatischen Reakti
 onsmustern besser zu verstehen sowie eigene Grenzen frühzeitiger wahrzune
 hmen. Zudem ermöglicht sie wertvolle persönliche Einsichten in das subti
 le Zusammenspiel von Körper\, Herz und Geist.\n\nMitzubringen sind ledigl
 ich ein Umschlagtuch oder eine Decke sowie – falls vorhanden – ein Med
 itationskissen.\n\nKontakt:\n\nJana Schulz\n\n \nTelefon: +49 162 9792117\
 nEmail: j.schulz@live.nl\nWebseite: https://www.mbsr-verband.de/lehrer/jan
 a-schulz/2696\n\nWeitere Informationen zur Veranstaltung: http://test.reis
 eregion-flaeming.de/veranstaltung/lausitzer-seenland/meditationsabend-ein-
 herzens-und-geistestraining
CATEGORIES:Wellness / Gesundheit
DTSTAMP:20260421T110450Z
END:VEVENT
BEGIN:VEVENT
UID:69e759d24f015
DTSTART:20260430T160000Z
SEQUENCE:0
TRANSP:OPAQUE
DTEND:20260430T180000Z
URL:http://test.reiseregion-flaeming.de/veranstaltung/lausitzer-seenland/me
 ditationsabend-ein-herzens-und-geistestraining
LOCATION:Kulturfabrik Hoyerswerda e.V.\, Braugasse 1\, 02977 Hoyerswerda
X-APPLE-STRUCTURED-LOCATION;VALUE=URI;X-ADDRESS="Kulturfabrik Hoyerswerda e
 .V., Braugasse 1, 02977 Hoyerswerda";X-APPLE-RADIUS=49;X-TITLE=Kulturfabri
 k Hoyerswerda e.V.:geo:14.245518,51.439178
GEO:14.245518;51.439178
SUMMARY:Meditationsabend - ein Herzens- und Geistestraining
CLASS:PUBLIC
DESCRIPTION:In Gemeinschaft zu meditieren ist von unschätzbarem Wert und w
 irkt sehr unterstützend. Das Angebot ist für alle geeignet – unabhäng
 ig von Alter\, körperlicher Konstitution sowie kulturellem oder religiös
 em Hintergrund. Vorerfahrungen sind nicht erforderlich.\n\nDurch regelmä
 ßige Meditation\, also das bewusste Trainieren von Achtsamkeit und Mitgef
 ühl\, können sich Ruhe\, Gelassenheit\, Akzeptanz und innere Freiheit en
 twickeln. Sie kann helfen\, den Umgang mit Stress und automatischen Reakti
 onsmustern besser zu verstehen sowie eigene Grenzen frühzeitiger wahrzune
 hmen. Zudem ermöglicht sie wertvolle persönliche Einsichten in das subti
 le Zusammenspiel von Körper\, Herz und Geist.\n\nMitzubringen sind ledigl
 ich ein Umschlagtuch oder eine Decke sowie – falls vorhanden – ein Med
 itationskissen.\n\nKontakt:\n\nJana Schulz\n\n \nTelefon: +49 162 9792117\
 nEmail: j.schulz@live.nl\nWebseite: https://www.mbsr-verband.de/lehrer/jan
 a-schulz/2696\n\nWeitere Informationen zur Veranstaltung: http://test.reis
 eregion-flaeming.de/veranstaltung/lausitzer-seenland/meditationsabend-ein-
 herzens-und-geistestraining
CATEGORIES:Wellness / Gesundheit
DTSTAMP:20260421T110450Z
END:VEVENT
END:VCALENDAR