BEGIN:VCALENDAR
VERSION:2.0
PRODID:test.reiseregion-flaeming.de
BEGIN:VEVENT
UID:69e7934ad78bb
DTSTART:20261011T070000Z
SEQUENCE:0
TRANSP:OPAQUE
DTEND:20261011T103000Z
URL:http://test.reiseregion-flaeming.de/veranstaltung/seenland-oder-spree/m
 oorpoesie-zu-fuss-unterwegs-im-schlaubetal
LOCATION:Ragower Mühle\, Ragower Mühle 1\, 15890 Siehdichum
X-APPLE-STRUCTURED-LOCATION;VALUE=URI;X-ADDRESS="Ragower Mühle, Ragower M
 ühle 1, 15890 Siehdichum";X-APPLE-RADIUS=49;X-TITLE=Ragower Mühle:geo:14
 .428500,52.204009
GEO:14.428500;52.204009
SUMMARY:Moorpoesie zu Fuß - Unterwegs im Schlaubetal
CLASS:PUBLIC
DESCRIPTION:Entdecken Sie die stille Schönheit der Moore und Läuche im un
 teren Schlaubetal. \n\nAuf der Wanderung durch das Untere Schlaubetal folg
 en Sie malerischen Pfaden\, erkunden verwunschene Moore und erfahren Spann
 endes über die moortypische Tier- und Pflanzenwelt und darüber\, wie Moo
 re als wichtige Wasserspeicher in der Landschaft dienen und wie sie erhalt
 en werden können.\n\nMaxi Springsguth und der zertifizierte Natur- und La
 ndschaftsführer Norman Heß geleiten Sie zu Fuß entlang der Moore und L
 äuche. Sie können sich auf eine vielfältige\, poetische und fachlich ä
 ußerst interessante Führung freuen.\n\n \n\nTreff ist am Sonntag\, den 1
 1. Oktober 2026\, am Parkplatz der Ragower Mühle. Die Veranstaltung begin
 nt um 09:00 Uhr und endet dort wieder um 12:30 Uhr.\n\nFestes Schuhwerk un
 d lange Bekleidung (Zecken- und Mückenschutz) sind zu empfehlen. Die Verp
 flegung erfolgt aus dem eigenen Rucksack.\n\nSchwierigkeitsgrad der Wegstr
 ecke: 7 von 10 Punkten (teilweise unwegsames Gelände)\n\nKontakt:\n\nNatu
 rpark Schlaubetal\nSiehdichum 1\n15890 Siehdichum\nTelefon: +49 33655 5917
 30\nEmail: np-schlaubetal@lfu.brandenburg.de\nWebseite: https://www.schlau
 betal-naturpark.de\n\nWeitere Informationen zur Veranstaltung: http://test
 .reiseregion-flaeming.de/veranstaltung/seenland-oder-spree/moorpoesie-zu-f
 uss-unterwegs-im-schlaubetal
CATEGORIES:Kinder und Jugendliche,Führung / Besichtigung
DTSTAMP:20260421T151003Z
END:VEVENT
END:VCALENDAR