BEGIN:VCALENDAR
VERSION:2.0
PRODID:test.reiseregion-flaeming.de
BEGIN:VEVENT
UID:69e897e59d76f
DTSTART:20260502T120000Z
SEQUENCE:0
TRANSP:OPAQUE
DTEND:20260502T160000Z
URL:http://test.reiseregion-flaeming.de/veranstaltung/spreewald/offene-atel
 iers-2026-im-landkreis-dahme-spreewald
LOCATION:Paul-Gerhardt-Kirche in Lübben\, Am Markt\, 15907 Lübben
X-APPLE-STRUCTURED-LOCATION;VALUE=URI;X-ADDRESS="Paul-Gerhardt-Kirche in L
 übben, Am Markt, 15907 Lübben";X-APPLE-RADIUS=49;X-TITLE=Paul-Gerhardt-K
 irche in Lübben:geo:13.897455,51.941986
GEO:13.897455;51.941986
SUMMARY:Offene Ateliers 2026 im Landkreis Dahme Spreewald
CLASS:PUBLIC
DESCRIPTION:Besucher*innen können Malerei\, Grafik\, Fotografien\, Kunstha
 ndwerk und Textildesign direkt am Ort des Entstehens entdecken\, Bildhauer
 n und Keramikkünstler über die Schulter schauen\, Drucktechniken versteh
 en lernen und bekommen mancherorts sogar die Möglichkeit\, selbst schöpf
 erisch tätig zu werden. Dabei werden diese beiden Tage oft zum Erlebnis. 
 Denn es lässt sich in der besonderen Atmosphäre der Werkstätten wunderb
 ar plaudern und fabulieren\, Hintergründe und Inhalte der Arbeiten könne
 n persönlich hinterfragt werden. Alle teilnehmenden Ateliers finden sie a
 uf der Website des LDS.\n\n**TEILNEHMENDE IN LÜBBEN**\n\n**Karen Ascher  
 **\n\n  * Paul-Gerhardt-Kirche\, Am Markt\, 15907 Lübben (Spreewald) \n  
 * Tel. 0152 2979 7155 | karenascher@yahoo.de \n  * www.karenascher.de | In
 stagram: @Karen Ascher \n  * MALEREI\, ILLUSTRATION\, KERAMIK \n  * Führu
 ngen in der Ausstellung „Paul Gerhardts Blumen“ mit Werken zum Thema v
 on Künstlern aus dem Landkreis\, zum Mitmachen: Blumen malen. \n\n\n\n  \
 n**Uwe Aulich  **\n\n  * Atelier Aulich\, Gubener Straße 46\, 15907 Lübb
 en (Spreewald)\n  * Tel. 0173 9394 071 | uwe.a60@web.de\n  * www.atelierau
 lich.de\n  * GRAFIK\, ILLUSTRATION\, ZEICHNUNG Schwarz-weiß Malerei mit D
 emonstration Bleistift- und Tuschezeichnung\, Gespräche beim Terrassen-Ka
 ffee. \n\n\n\n  \n**Stefan Bleyl  **\n\n  * Kleinbahnstraße 2\, 15907 Lü
 bben (Spreewald) \n  * artist@scheinlichter.de\n  * www.scheinlichter.de I
 nstagram: @bleyl_art\n  * MALEREI\, PHANTASTISCHE ROMANTIK\n  * Samstag 14
  Uhr Akkordeonschüler der Musikschule Fröhlich\, Sonderausstellung „Zu
 kunftsTräume ZukunftsRäume“ Bildvorstellungen und Gespräch mit den ju
 ngen KünstlerInnen Gäste: SchülerInnen der Liuba-Grundschule Lübben \n
 \n\n\n  \n**Doreen Bock  **\n\n  * Lieberoser Straße 53\, 15907 Lübben (
 Spreewald) Tel. 0152 3407 8279 | doreenanderspree@gmail.com Instagram: @un
 terwegsmitoffenenaugen FOTOGRAFIE \n\n\n\n  \n**Sebastian Franzka  **\n\n 
  * Ziegelstraße 11\, 15907 Lübben (Spreewald) \n  * Tel. 03546 1866 663 
 | don-quichote@gmx.net\n  * www.hirnflug.de | Facebook: @Sebastian Franzka
 \n  * GRAFIK\, MALEREI\, KERAMIK Kaffee und Tee\n  * Samstag: Tonfiguren u
 nd Keramiken selber herstellen\n  * Sonntag: Vorführung Druckpresse\n  * 
 **Gast: Heidi Schwemer** STEMPELKUNST\n\n\n\n  \n**Gemeinschaftsatelier in
  der Zimmerei Altkrüger  **\n\n  * An der Böttcherei 10\, 15907 Lübben 
 (Spreewald) \n  * **Rüdiger Neick** Tel. 0176 9963 6905 | ruediger@neick.
 de www.recknitzthal.de | Instagram: @ruedigerneick LANDSCHAFTSGRAFIKEN\, S
 CHABKARTON Musik auf dem Dudelsack\n  * **Karin Schrager** Tel. 0173 2802 
 445 | kaschrager@aol.com FOTOGRAFIE\, LIGHTPAINTING\n  * **Ulrike Stoewe**
  Tel. 0174 3190 262 | stoewe.ulrike@gmail.com MALEREI\n  * **Annett Wagner
 ** Tel. 0176 4003 8336 | kontakt@annettwagner.de www.ruvido.de | Instagram
 : @ruvidos_holzbilder MALEREI Mitmachaktion: kleine Upcycling-Collagen ers
 tellen\n  * **Konstanze Weidhaas** Tel. 0177 6625 553 | paula89@t-online.d
 e www.glaslandschaft.de GLASKUNST\, GLASFUSING\n\n\n\n  \n**Sybille Gruner
 t**\n\n  * Lohmühlengasse (gegenüber Landratsamt)\, 15907 Lübben (Spree
 wald)\n  * Tel. 0151 4128 0767 | s.grunert@t-online.de\n  * www.atelier-sy
 bille-grunert.de\n  * MALEREI\, GRAFIK Kunstkalender 2026\, Kuchen und Get
 ränke. \n\n\n\n \n\n**Sylvia Matthes**\n\n  * Hauptstraße 2\, 15907 Lüb
 ben (Spreewald)\n  * Tel. 0162 9823 883 | ssylviamatt@aol.com\n  * MALEREI
 \, GRAFIK Musikalische Umrahmung mit Ulli Noah\n  * **Gast: Klaus Friedric
 h** MALERE\n\n\n\n  \n**Monika Schubert**\n\n  * Radensdorfer Weg 6\, 1590
 7 Lübben (Spreewald)\n  * Tel. 03546 181699 | monikaschubert52@icloud.com
 \n  * www.monikaschubert.com\n  * MALEREI GRAFIK Führung\, Lesung\n  * **
 Gast: Ralph Ronneberger** Autor \n\n\n\n \n\n**Malgorzata Suwalski**\n\n  
 * Ernst-von-Houwald-Damm 11d\, 15907 Lübben (Spreewald)\n  * Tel. 0151 64
 81 1616 | malgorzata.suwalski@gmail.com\n  * www.atelier-malgorzata.de | F
 acebook: @Malgorzata Suwalski\n  * MALEREI\, GLASCOLLAGEN\, HOLZ-STEINSKUL
 PTUREN Musikalische Umrahmung\, bei gutem Wetter im Kunstgarten\n  * **Gas
 t: Jonathan Lossack** MALEREI\, HOLZKUNST\n\n\n\n \n\n**Marietta Thier**\n
 \n  * Logenstraße 29A\, Alte Druckerei\, 15907 Lübben (Spreewald)\n  * T
 el. 0178 5639 886 | marietta.thier@freenet.de\n  * www.mariettathier.de\n 
  * MALEREI\n  * Samstag 15:30 Uhr Flamenco-Tanz mit Ari la Chispa/Berlin\n
   * Sonntag 15:30 Uhr Hip-Hop-Kids mit Alyona Yevych/Lübben\n  * **Gast: 
 Elmar Preis** FOTOGRAFIE\n\nKontakt:\n\nLandkreis Dahme-Spreewald\nReuterg
 asse 12\n15907 Lübben (Spreewald)/Lubin (Błota)\nTelefon: +49 3546 200\n
 Email: info@dahme-spreewald.de\nWebseite: https://www.dahme-spreewald.de/d
 e/\n\nWeitere Informationen zur Veranstaltung: http://test.reiseregion-fla
 eming.de/veranstaltung/spreewald/offene-ateliers-2026-im-landkreis-dahme-s
 preewald
CATEGORIES:Ausstellung,Führung / Besichtigung
DTSTAMP:20260422T094157Z
END:VEVENT
BEGIN:VEVENT
UID:69e897e5a6a16
DTSTART:20260503T090000Z
SEQUENCE:0
TRANSP:OPAQUE
DTEND:20260503T160000Z
URL:http://test.reiseregion-flaeming.de/veranstaltung/spreewald/offene-atel
 iers-2026-im-landkreis-dahme-spreewald
LOCATION:Paul-Gerhardt-Kirche in Lübben\, Am Markt\, 15907 Lübben
X-APPLE-STRUCTURED-LOCATION;VALUE=URI;X-ADDRESS="Paul-Gerhardt-Kirche in L
 übben, Am Markt, 15907 Lübben";X-APPLE-RADIUS=49;X-TITLE=Paul-Gerhardt-K
 irche in Lübben:geo:13.897455,51.941986
GEO:13.897455;51.941986
SUMMARY:Offene Ateliers 2026 im Landkreis Dahme Spreewald
CLASS:PUBLIC
DESCRIPTION:Besucher*innen können Malerei\, Grafik\, Fotografien\, Kunstha
 ndwerk und Textildesign direkt am Ort des Entstehens entdecken\, Bildhauer
 n und Keramikkünstler über die Schulter schauen\, Drucktechniken versteh
 en lernen und bekommen mancherorts sogar die Möglichkeit\, selbst schöpf
 erisch tätig zu werden. Dabei werden diese beiden Tage oft zum Erlebnis. 
 Denn es lässt sich in der besonderen Atmosphäre der Werkstätten wunderb
 ar plaudern und fabulieren\, Hintergründe und Inhalte der Arbeiten könne
 n persönlich hinterfragt werden. Alle teilnehmenden Ateliers finden sie a
 uf der Website des LDS.\n\n**TEILNEHMENDE IN LÜBBEN**\n\n**Karen Ascher  
 **\n\n  * Paul-Gerhardt-Kirche\, Am Markt\, 15907 Lübben (Spreewald) \n  
 * Tel. 0152 2979 7155 | karenascher@yahoo.de \n  * www.karenascher.de | In
 stagram: @Karen Ascher \n  * MALEREI\, ILLUSTRATION\, KERAMIK \n  * Führu
 ngen in der Ausstellung „Paul Gerhardts Blumen“ mit Werken zum Thema v
 on Künstlern aus dem Landkreis\, zum Mitmachen: Blumen malen. \n\n\n\n  \
 n**Uwe Aulich  **\n\n  * Atelier Aulich\, Gubener Straße 46\, 15907 Lübb
 en (Spreewald)\n  * Tel. 0173 9394 071 | uwe.a60@web.de\n  * www.atelierau
 lich.de\n  * GRAFIK\, ILLUSTRATION\, ZEICHNUNG Schwarz-weiß Malerei mit D
 emonstration Bleistift- und Tuschezeichnung\, Gespräche beim Terrassen-Ka
 ffee. \n\n\n\n  \n**Stefan Bleyl  **\n\n  * Kleinbahnstraße 2\, 15907 Lü
 bben (Spreewald) \n  * artist@scheinlichter.de\n  * www.scheinlichter.de I
 nstagram: @bleyl_art\n  * MALEREI\, PHANTASTISCHE ROMANTIK\n  * Samstag 14
  Uhr Akkordeonschüler der Musikschule Fröhlich\, Sonderausstellung „Zu
 kunftsTräume ZukunftsRäume“ Bildvorstellungen und Gespräch mit den ju
 ngen KünstlerInnen Gäste: SchülerInnen der Liuba-Grundschule Lübben \n
 \n\n\n  \n**Doreen Bock  **\n\n  * Lieberoser Straße 53\, 15907 Lübben (
 Spreewald) Tel. 0152 3407 8279 | doreenanderspree@gmail.com Instagram: @un
 terwegsmitoffenenaugen FOTOGRAFIE \n\n\n\n  \n**Sebastian Franzka  **\n\n 
  * Ziegelstraße 11\, 15907 Lübben (Spreewald) \n  * Tel. 03546 1866 663 
 | don-quichote@gmx.net\n  * www.hirnflug.de | Facebook: @Sebastian Franzka
 \n  * GRAFIK\, MALEREI\, KERAMIK Kaffee und Tee\n  * Samstag: Tonfiguren u
 nd Keramiken selber herstellen\n  * Sonntag: Vorführung Druckpresse\n  * 
 **Gast: Heidi Schwemer** STEMPELKUNST\n\n\n\n  \n**Gemeinschaftsatelier in
  der Zimmerei Altkrüger  **\n\n  * An der Böttcherei 10\, 15907 Lübben 
 (Spreewald) \n  * **Rüdiger Neick** Tel. 0176 9963 6905 | ruediger@neick.
 de www.recknitzthal.de | Instagram: @ruedigerneick LANDSCHAFTSGRAFIKEN\, S
 CHABKARTON Musik auf dem Dudelsack\n  * **Karin Schrager** Tel. 0173 2802 
 445 | kaschrager@aol.com FOTOGRAFIE\, LIGHTPAINTING\n  * **Ulrike Stoewe**
  Tel. 0174 3190 262 | stoewe.ulrike@gmail.com MALEREI\n  * **Annett Wagner
 ** Tel. 0176 4003 8336 | kontakt@annettwagner.de www.ruvido.de | Instagram
 : @ruvidos_holzbilder MALEREI Mitmachaktion: kleine Upcycling-Collagen ers
 tellen\n  * **Konstanze Weidhaas** Tel. 0177 6625 553 | paula89@t-online.d
 e www.glaslandschaft.de GLASKUNST\, GLASFUSING\n\n\n\n  \n**Sybille Gruner
 t**\n\n  * Lohmühlengasse (gegenüber Landratsamt)\, 15907 Lübben (Spree
 wald)\n  * Tel. 0151 4128 0767 | s.grunert@t-online.de\n  * www.atelier-sy
 bille-grunert.de\n  * MALEREI\, GRAFIK Kunstkalender 2026\, Kuchen und Get
 ränke. \n\n\n\n \n\n**Sylvia Matthes**\n\n  * Hauptstraße 2\, 15907 Lüb
 ben (Spreewald)\n  * Tel. 0162 9823 883 | ssylviamatt@aol.com\n  * MALEREI
 \, GRAFIK Musikalische Umrahmung mit Ulli Noah\n  * **Gast: Klaus Friedric
 h** MALERE\n\n\n\n  \n**Monika Schubert**\n\n  * Radensdorfer Weg 6\, 1590
 7 Lübben (Spreewald)\n  * Tel. 03546 181699 | monikaschubert52@icloud.com
 \n  * www.monikaschubert.com\n  * MALEREI GRAFIK Führung\, Lesung\n  * **
 Gast: Ralph Ronneberger** Autor \n\n\n\n \n\n**Malgorzata Suwalski**\n\n  
 * Ernst-von-Houwald-Damm 11d\, 15907 Lübben (Spreewald)\n  * Tel. 0151 64
 81 1616 | malgorzata.suwalski@gmail.com\n  * www.atelier-malgorzata.de | F
 acebook: @Malgorzata Suwalski\n  * MALEREI\, GLASCOLLAGEN\, HOLZ-STEINSKUL
 PTUREN Musikalische Umrahmung\, bei gutem Wetter im Kunstgarten\n  * **Gas
 t: Jonathan Lossack** MALEREI\, HOLZKUNST\n\n\n\n \n\n**Marietta Thier**\n
 \n  * Logenstraße 29A\, Alte Druckerei\, 15907 Lübben (Spreewald)\n  * T
 el. 0178 5639 886 | marietta.thier@freenet.de\n  * www.mariettathier.de\n 
  * MALEREI\n  * Samstag 15:30 Uhr Flamenco-Tanz mit Ari la Chispa/Berlin\n
   * Sonntag 15:30 Uhr Hip-Hop-Kids mit Alyona Yevych/Lübben\n  * **Gast: 
 Elmar Preis** FOTOGRAFIE\n\nKontakt:\n\nLandkreis Dahme-Spreewald\nReuterg
 asse 12\n15907 Lübben (Spreewald)/Lubin (Błota)\nTelefon: +49 3546 200\n
 Email: info@dahme-spreewald.de\nWebseite: https://www.dahme-spreewald.de/d
 e/\n\nWeitere Informationen zur Veranstaltung: http://test.reiseregion-fla
 eming.de/veranstaltung/spreewald/offene-ateliers-2026-im-landkreis-dahme-s
 preewald
CATEGORIES:Ausstellung,Führung / Besichtigung
DTSTAMP:20260422T094157Z
END:VEVENT
END:VCALENDAR