BEGIN:VCALENDAR
VERSION:2.0
PRODID:test.reiseregion-flaeming.de
BEGIN:VEVENT
UID:69e7568d558f9
DTSTART:20260721T160000Z
SEQUENCE:0
TRANSP:OPAQUE
DTEND:20260721T180000Z
URL:http://test.reiseregion-flaeming.de/veranstaltung/lausitzer-seenland/ta
 g-der-sommersonnenwende
LOCATION:Alter Friedhof\, Augus-Bebel-Straße\, 01968 Senftenberg
X-APPLE-STRUCTURED-LOCATION;VALUE=URI;X-ADDRESS="Alter Friedhof, Augus-Bebe
 l-Straße, 01968 Senftenberg";X-APPLE-RADIUS=49;X-TITLE=Alter Friedhof:geo
 :13.998071,51.521882
GEO:13.998071;51.521882
SUMMARY:Tag der Sommersonnenwende
CLASS:PUBLIC
DESCRIPTION:Eine Veranstaltung des Vereins Mittendrin Senftenberg e.V.  \\-
  Sommer mit Musik und Entspannung zum Tag der Sommersonnenwende im Bürger
 park „Alter Friedhof“ mit der Gruppe Neighbours (zwei Gitarren & eine 
 unverwechselbare Stimme) und Klangschalenklänge mit Carola Kleemann\n\nKo
 ntakt:\n\nehemaliger Ratskeller (Untergeschoss)\nMarkt  1\n01968 Senftenbe
 rg\nTelefon: +49 0176 72125985\nEmail: \n\nWeitere Informationen zur Veran
 staltung: http://test.reiseregion-flaeming.de/veranstaltung/lausitzer-seen
 land/tag-der-sommersonnenwende
CATEGORIES:Wellness / Gesundheit,Chor / Folklore / Volksmusik
DTSTAMP:20260421T105054Z
END:VEVENT
END:VCALENDAR