BEGIN:VCALENDAR
VERSION:2.0
PRODID:test.reiseregion-flaeming.de
BEGIN:VEVENT
UID:69e783a28ebb5
DTSTART:20260913T120000Z
SEQUENCE:0
TRANSP:OPAQUE
DTEND:20260913T140000Z
URL:http://test.reiseregion-flaeming.de/veranstaltung/seenland-oder-spree/b
 esuch-der-zwergplaneten
LOCATION:Ragower Mühle\, Ragower Mühle 1\, 15890 Siehdichum
X-APPLE-STRUCTURED-LOCATION;VALUE=URI;X-ADDRESS="Ragower Mühle, Ragower M
 ühle 1, 15890 Siehdichum";X-APPLE-RADIUS=49;X-TITLE=Ragower Mühle:geo:14
 .428500,52.204009
GEO:14.428500;52.204009
SUMMARY:Besuch der Zwergplaneten
CLASS:PUBLIC
DESCRIPTION:Eine geführte Wanderung mit Erläuterungen von der Ragower Mü
 hle nach Siehdichum entlang der Schlaube\, vorbei an sechs Zwergplaneten. 
 Anmeldung ist nicht notwendig\, spontane Teilnahme möglich.\n\nKontakt:\n
 \nAstroWis e.V.\nManfred Dietrich\nMarkt 5\n15299 Müllrose\nTelefon: +49 
 173 9154985\nEmail: info@astrowis.de\nWebseite: https://www.astrowis.de/\n
 \nWeitere Informationen zur Veranstaltung: http://test.reiseregion-flaemin
 g.de/veranstaltung/seenland-oder-spree/besuch-der-zwergplaneten
CATEGORIES:Führung / Besichtigung
DTSTAMP:20260421T140314Z
END:VEVENT
END:VCALENDAR