BEGIN:VCALENDAR
VERSION:2.0
PRODID:test.reiseregion-flaeming.de
BEGIN:VEVENT
UID:69e7b1e33921e
DTSTART:20260620T063000Z
SEQUENCE:0
TRANSP:OPAQUE
DTEND:20260620T093000Z
URL:http://test.reiseregion-flaeming.de/veranstaltung/seenland-oder-spree/j
 ugendangeln
LOCATION:Fähre Kaisermühl (Oder-Spree-Kanal)\, 15299 Müllrose
X-APPLE-STRUCTURED-LOCATION;VALUE=URI;X-ADDRESS="Fähre Kaisermühl (Oder-S
 pree-Kanal), 15299 Müllrose";X-APPLE-RADIUS=49;X-TITLE=Fähre Kaisermühl
  (Oder-Spree-Kanal):geo:14.420954,52.252349
GEO:14.420954;52.252349
SUMMARY:Jugendangeln
CLASS:PUBLIC
DESCRIPTION:Der Müllroser Anglerverein 1949 e. V. organisiert Veranstaltun
 gen auch für die jüngsten Angelfreunde.\n\nKontakt:\n\nMüllroser Angler
 verein 1949 e.V.\nLutz Christoph\nKirschweg 11\n15299 Müllrose\nTelefon: 
 +49 173  6469564\nEmail: angelgott.christoph02@gmail.com\n\nWeitere Inform
 ationen zur Veranstaltung: http://test.reiseregion-flaeming.de/veranstaltu
 ng/seenland-oder-spree/jugendangeln
CATEGORIES:Kinder und Jugendliche,Sport
DTSTAMP:20260421T172035Z
END:VEVENT
BEGIN:VEVENT
UID:69e7b1e33b264
DTSTART:20260913T063000Z
SEQUENCE:0
TRANSP:OPAQUE
DTEND:20260913T093000Z
URL:http://test.reiseregion-flaeming.de/veranstaltung/seenland-oder-spree/j
 ugendangeln
LOCATION:Fähre Kaisermühl (Oder-Spree-Kanal)\, 15299 Müllrose
X-APPLE-STRUCTURED-LOCATION;VALUE=URI;X-ADDRESS="Fähre Kaisermühl (Oder-S
 pree-Kanal), 15299 Müllrose";X-APPLE-RADIUS=49;X-TITLE=Fähre Kaisermühl
  (Oder-Spree-Kanal):geo:14.420954,52.252349
GEO:14.420954;52.252349
SUMMARY:Jugendangeln
CLASS:PUBLIC
DESCRIPTION:Der Müllroser Anglerverein 1949 e. V. organisiert Veranstaltun
 gen auch für die jüngsten Angelfreunde.\n\nKontakt:\n\nMüllroser Angler
 verein 1949 e.V.\nLutz Christoph\nKirschweg 11\n15299 Müllrose\nTelefon: 
 +49 173  6469564\nEmail: angelgott.christoph02@gmail.com\n\nWeitere Inform
 ationen zur Veranstaltung: http://test.reiseregion-flaeming.de/veranstaltu
 ng/seenland-oder-spree/jugendangeln
CATEGORIES:Kinder und Jugendliche,Sport
DTSTAMP:20260421T172035Z
END:VEVENT
END:VCALENDAR