BEGIN:VCALENDAR
VERSION:2.0
PRODID:test.reiseregion-flaeming.de
BEGIN:VEVENT
UID:69e4c1bed715c
DTSTART:20260524T150000Z
SEQUENCE:0
TRANSP:OPAQUE
DTEND:20260524T164500Z
URL:http://test.reiseregion-flaeming.de/veranstaltung/spreewald/pfingstkonz
 ert-in-der-leeskower-landkirche
LOCATION:Leeskower Landkirche\, Dorfanger\, 15868 Jamlitz
X-APPLE-STRUCTURED-LOCATION;VALUE=URI;X-ADDRESS="Leeskower Landkirche, Dorf
 anger, 15868 Jamlitz";X-APPLE-RADIUS=49;X-TITLE=Leeskower Landkirche:geo:1
 4.353780,51.990035
GEO:14.353780;51.990035
SUMMARY:Pfingstkonzert in der Leeskower Landkirche
CLASS:PUBLIC
DESCRIPTION:Dieses Mal erfüllt Olesja Pahl auf dem Klavier mit \"Frühling
 sklängen\" für Tasten und Tönen die sehenswerte Kirche. Sie begleitet u
 nter anderem den Gesang der Berliner Sopranistin Antonia Barone.\n\nKontak
 t:\n\nbrandung e.V.\n\n \nTelefon: +49 03371 30765\nEmail: \n\nWeitere Inf
 ormationen zur Veranstaltung: http://test.reiseregion-flaeming.de/veransta
 ltung/spreewald/pfingstkonzert-in-der-leeskower-landkirche
CATEGORIES:Klassisches Konzert / Oper
DTSTAMP:20260419T115127Z
END:VEVENT
END:VCALENDAR