BEGIN:VCALENDAR
VERSION:2.0
PRODID:test.reiseregion-flaeming.de
BEGIN:VEVENT
UID:69e7b1f3e92b4
DTSTART:20260422T160000Z
SEQUENCE:0
TRANSP:OPAQUE
DTEND:20260422T173000Z
URL:http://test.reiseregion-flaeming.de/veranstaltung/spreewald/lesung-mit-
 karosh-taha-gulistan
LOCATION:Bleiche Resort & Spa\, Bleichestraße 16\, 03096 Burg (Spreewald)
X-APPLE-STRUCTURED-LOCATION;VALUE=URI;X-ADDRESS="Bleiche Resort & Spa, Blei
 chestraße 16, 03096 Burg (Spreewald)";X-APPLE-RADIUS=49;X-TITLE=Bleiche R
 esort & Spa:geo:14.126355,51.843933
GEO:14.126355;51.843933
SUMMARY:Lesung mit Karosh Taha - Gulistan
CLASS:PUBLIC
DESCRIPTION:**Preisträgerin des Spreewald-Literaturstipendiums 2025/26 ste
 llt neuen Roman vor.**\n\n**Lesung aus  dem noch unveröffentlichten Roman
  »Gulistan«​** (Arbeitstitel) erscheint im Herbst 2026 im Dumont Verla
 g.\n\nKarosh Taha arbeitet aktuell an einem Roman\, der von der Doppelgän
 ger-Theorie des ehemaligen Diktators Saddam Hussein erzählt. Man kann von
  einem Mythos\, einer politischen Verschwörungstheorie\, einer urban lege
 nd oder gezielter Propaganda sprechen\, doch in der Realität des Romans g
 ibt es den Doppelgänger und seine Ehefrau.\n\nUm dem Original gerecht zu 
 werden\, muss der Doppelgänger sein eigenes Ich aufgeben – wenn die Kop
 ie jedoch so überzeugend ist\, dass selbst der Geheimdienst nicht zwische
 n beiden Männern unterscheiden kann\, stellt sich die Frage\, wie Mensche
 n ihre Individualität erhalten sollen\, wenn der mächtigste Mann im Land
  durch das selbst erschaffene Regime lediglich zu einem Abbild verkommt. F
 ormal stellt der Roman durch die Arbeit mit verschiedenen Stilen und Stimm
 en sowie seiner intertextuellen Auseinandersetzung mit Geheimdienstdokumen
 ten und religiösen Texten das Konstrukt der Erzählung in Frage.\n\nKonta
 kt:\n\nBleiche Resort & Spa\nBleichestraße 16\n03096 Burg (Spreewald)\nTe
 lefon: +49 35603 620\nEmail: buchhandlung@bleiche.de\nWebseite: https://ww
 w.bleiche.de/kulturliteratur#Karosh\n\nWeitere Informationen zur Veranstal
 tung: http://test.reiseregion-flaeming.de/veranstaltung/spreewald/lesung-m
 it-karosh-taha-gulistan
CATEGORIES:Lesung / Vortrag
DTSTAMP:20260421T172051Z
END:VEVENT
END:VCALENDAR