BEGIN:VCALENDAR
VERSION:2.0
PRODID:test.reiseregion-flaeming.de
BEGIN:VEVENT
UID:69e776d1d0c2f
DTSTART:20260530T110000Z
SEQUENCE:0
TRANSP:OPAQUE
DTEND:20260530T140000Z
URL:http://test.reiseregion-flaeming.de/veranstaltung/prignitz/tag-der-bauk
 ultur-im-kultur-kloster-kyritz
LOCATION:Kultur Kloster Kyritz\, Johann-Sebastian-Bach-Straße 4\, 16866 Ky
 ritz
X-APPLE-STRUCTURED-LOCATION;VALUE=URI;X-ADDRESS="Kultur Kloster Kyritz, Joh
 ann-Sebastian-Bach-Straße 4, 16866 Kyritz";X-APPLE-RADIUS=49;X-TITLE=Kult
 ur Kloster Kyritz:geo:12.395535,52.944901
GEO:12.395535;52.944901
SUMMARY:Tag der Baukultur im Kultur|Kloster|Kyritz
CLASS:PUBLIC
DESCRIPTION:Die Stadt Kyritz lädt ein zu Führungen über die Baustelle de
 s Kultur|Kloster|Kyritz.\n\nKontakt:\n\nKultur- und Tourismusbüro Kyritz 
 an der Knatter\nMaxim-Gorki-Straße 32\n16866 Kyritz\nTelefon: +49 33971 8
 5255\nEmail: tourismus@kyritz.de\n\nWeitere Informationen zur Veranstaltun
 g: http://test.reiseregion-flaeming.de/veranstaltung/prignitz/tag-der-bauk
 ultur-im-kultur-kloster-kyritz
CATEGORIES:Führung / Besichtigung
DTSTAMP:20260421T130833Z
END:VEVENT
END:VCALENDAR