BEGIN:VCALENDAR
VERSION:2.0
PRODID:test.reiseregion-flaeming.de
BEGIN:VEVENT
UID:69e776cd55cd4
DTSTART:20260502T080000Z
SEQUENCE:0
TRANSP:OPAQUE
DTEND:20260502T160000Z
URL:http://test.reiseregion-flaeming.de/veranstaltung/prignitz/internationa
 le-katzenausstellung
LOCATION:Kulturhaus Kyritz\, Perleberger Straße 8\, 16866 Kyritz
X-APPLE-STRUCTURED-LOCATION;VALUE=URI;X-ADDRESS="Kulturhaus Kyritz, Perlebe
 rger Straße 8, 16866 Kyritz";X-APPLE-RADIUS=49;X-TITLE=Kulturhaus Kyritz:
 geo:12.392310,52.950027
GEO:12.392310;52.950027
SUMMARY:Internationale Katzenausstellung
CLASS:PUBLIC
DESCRIPTION:Ausstellung des Internationalen Royal Cat Clubs e.V.\n\nKontakt
 :\n\nKultur- und Tourismusbüro Kyritz an der Knatter\nMaxim-Gorki-Straße
  32\n16866 Kyritz\nTelefon: +49 33971 85255\nEmail: tourismus@kyritz.de\n\
 nWeitere Informationen zur Veranstaltung: http://test.reiseregion-flaeming
 .de/veranstaltung/prignitz/internationale-katzenausstellung
CATEGORIES:Ausstellung
DTSTAMP:20260421T130829Z
END:VEVENT
BEGIN:VEVENT
UID:69e776cd5cc94
DTSTART:20260503T080000Z
SEQUENCE:0
TRANSP:OPAQUE
DTEND:20260503T160000Z
URL:http://test.reiseregion-flaeming.de/veranstaltung/prignitz/internationa
 le-katzenausstellung
LOCATION:Kulturhaus Kyritz\, Perleberger Straße 8\, 16866 Kyritz
X-APPLE-STRUCTURED-LOCATION;VALUE=URI;X-ADDRESS="Kulturhaus Kyritz, Perlebe
 rger Straße 8, 16866 Kyritz";X-APPLE-RADIUS=49;X-TITLE=Kulturhaus Kyritz:
 geo:12.392310,52.950027
GEO:12.392310;52.950027
SUMMARY:Internationale Katzenausstellung
CLASS:PUBLIC
DESCRIPTION:Ausstellung des Internationalen Royal Cat Clubs e.V.\n\nKontakt
 :\n\nKultur- und Tourismusbüro Kyritz an der Knatter\nMaxim-Gorki-Straße
  32\n16866 Kyritz\nTelefon: +49 33971 85255\nEmail: tourismus@kyritz.de\n\
 nWeitere Informationen zur Veranstaltung: http://test.reiseregion-flaeming
 .de/veranstaltung/prignitz/internationale-katzenausstellung
CATEGORIES:Ausstellung
DTSTAMP:20260421T130829Z
END:VEVENT
END:VCALENDAR