BEGIN:VCALENDAR
VERSION:2.0
PRODID:test.reiseregion-flaeming.de
BEGIN:VEVENT
UID:69e4add9e2e9b
DTSTART:20261024T100000Z
SEQUENCE:0
TRANSP:OPAQUE
DTEND:20261024T120000Z
URL:http://test.reiseregion-flaeming.de/veranstaltung/seenland-oder-spree/t
 ourismustag
LOCATION:Komturei Lietzen\, Lietzen N  37\, 15306 Seelow
X-APPLE-STRUCTURED-LOCATION;VALUE=URI;X-ADDRESS="Komturei Lietzen, Lietzen 
 N  37, 15306 Seelow";X-APPLE-RADIUS=49;X-TITLE=Komturei Lietzen:geo:14.341
 861,52.470073
GEO:14.341861;52.470073
SUMMARY:Tourismustag
CLASS:PUBLIC
DESCRIPTION:Unter dem Motto „Die Oder -Warthe- Region entdecken“ präse
 ntieren wir die Vielfalt unserer Region mit deutschen und polnischen Produ
 kten. Zahlreiche Informationsstände von Vereinen\, Verbänden und Institu
 tionen geben Einblicke in ihre Arbeit und Angebote.\n\nKontakt:\n\nTourist
 -Information \"Oderbruch und Lebuser Land\" e.V.\nMittelstraße 10\n15306 
 Seelow\nTelefon: +49 3346 849808\nEmail: Info@oderbruch-tourismus.de\n\nWe
 itere Informationen zur Veranstaltung: http://test.reiseregion-flaeming.de
 /veranstaltung/seenland-oder-spree/tourismustag
CATEGORIES:Markt,Lesung / Vortrag,Essen und Trinken,Ausstellung
DTSTAMP:20260419T102634Z
END:VEVENT
END:VCALENDAR