BEGIN:VCALENDAR
VERSION:2.0
PRODID:test.reiseregion-flaeming.de
BEGIN:VEVENT
UID:69e4d6cb82c5f
DTSTART:20260427T140000Z
SEQUENCE:0
TRANSP:OPAQUE
DTEND:20260427T161500Z
URL:http://test.reiseregion-flaeming.de/veranstaltung/seenland-oder-spree/r
 und-um-die-rote-kaserne-historischer-spaziergang
LOCATION:August-Bebel-Straße\, August-Bebel-Straße\, 15234 Frankfurt (Ode
 r)
X-APPLE-STRUCTURED-LOCATION;VALUE=URI;X-ADDRESS="August-Bebel-Straße, Augu
 st-Bebel-Straße, 15234 Frankfurt (Oder)";X-APPLE-RADIUS=49;X-TITLE=August
 -Bebel-Straße:geo:14.551632,52.342700
GEO:14.551632;52.342700
SUMMARY:Rund um die Rote Kaserne: historischer Spaziergang
CLASS:PUBLIC
DESCRIPTION:Die preußische Armee benötigte im gesamten Land Unterkünfte 
 für ihre Soldaten. So entstanden am westlichen Rand der Stadt Frankfurt (
 Oder) große Gebäude als Unterkünfte für Reiter\, Ställe für Pferde\,
  eine Krankenstation\, alles in schlichter Backsteinarchitektur. Die Kaser
 ne diente auch nach dem Ende Preußens weiterhin als Unterkunft für Milit
 äreinheiten. Selbst nach dem Ende des Zweiten Weltkriegs zogen in den Kom
 plex Einheiten der Roten Armee ein. Wir wollen nicht nur über die Archite
 ktur\, sondern auch über den Drill in den Kasernen sprechen.\n\nStart: Au
 gust-Bebel-Straße\, Ecke Dr.-Ursula-Sell\n\nKontakt:\n\nVHS Volkshochschu
 le Frankfurt (Oder)\nGartenstr. 1\n15230 Frankfurt (Oder)\nTelefon: +49 33
 5 542025\nEmail: info@vhs-ffo.de\nWebseite: https://www.vhs-frankfurt-oder
 .de/\n\nWeitere Informationen zur Veranstaltung: http://test.reiseregion-f
 laeming.de/veranstaltung/seenland-oder-spree/rund-um-die-rote-kaserne-hist
 orischer-spaziergang
CATEGORIES:Führung / Besichtigung
DTSTAMP:20260419T132115Z
END:VEVENT
END:VCALENDAR