BEGIN:VCALENDAR
VERSION:2.0
PRODID:test.reiseregion-flaeming.de
BEGIN:VEVENT
UID:69e75732e1431
DTSTART:20261107T170000Z
SEQUENCE:0
TRANSP:OPAQUE
DTEND:20261107T230000Z
URL:http://test.reiseregion-flaeming.de/veranstaltung/lausitzer-seenland/fo
 rster-nachtschwaermer-mitternachtsshopping-in-der-forster-innenstadt
LOCATION:Forster Innenstadt\, Cottbuser Str. 10\, 03149 Forst (Lausitz)
X-APPLE-STRUCTURED-LOCATION;VALUE=URI;X-ADDRESS="Forster Innenstadt, Cottbu
 ser Str. 10, 03149 Forst (Lausitz)";X-APPLE-RADIUS=49;X-TITLE=Forster Inne
 nstadt:geo:14.646137,51.744278
GEO:14.646137;51.744278
SUMMARY:Forster Nachtschwärmer - Mitternachtsshopping in der Forster Innen
 stadt
CLASS:PUBLIC
DESCRIPTION:Das Mitternachtsshopping „Forster Nachtschwärmer“ lädt wi
 eder zu einem besonderen Abend in der Forster Innenstadt ein. Die Geschäf
 te öffnen länger und bieten Aktionen\, Überraschungen und Gewinnmöglic
 hkeiten. Dazu sorgt ein abwechslungsreiches Programm mit Musik\, Unterhalt
 ung und Angeboten für Groß und Klein für eine stimmungsvolle Atmosphär
 e. Ein Feuerwerk bildet traditionell einen der Höhepunkte des Abends.\n\n
 Kontakt:\n\nGewerbeverein \"Forster Unternehmen\"\nJörg Makowski\nEuloer 
 Str.  90\n03149 Forst (Lausitz)\nTelefon: +49 3562 9500\nEmail: info@forst
 er-unternehmen.de\nWebseite: https://www.forster-unternehmen.de\n\nWeitere
  Informationen zur Veranstaltung: http://test.reiseregion-flaeming.de/vera
 nstaltung/lausitzer-seenland/forster-nachtschwaermer-mitternachtsshopping-
 in-der-forster-innenstadt
CATEGORIES:Fest / Brauchtum,Essen und Trinken
DTSTAMP:20260421T105338Z
END:VEVENT
END:VCALENDAR