BEGIN:VCALENDAR
VERSION:2.0
PRODID:test.reiseregion-flaeming.de
BEGIN:VEVENT
UID:69e79d726677c
DTSTART:20260710T070000Z
SEQUENCE:0
TRANSP:OPAQUE
DTEND:20260710T090000Z
URL:http://test.reiseregion-flaeming.de/veranstaltung/seenland-oder-spree/k
 indersommerfest-cvjm-seelow
LOCATION:Altes Pfarrhaus Seelow e.V.\, Puschkinplatz  7\, 15306 Seelow
X-APPLE-STRUCTURED-LOCATION;VALUE=URI;X-ADDRESS="Altes Pfarrhaus Seelow e.V
 ., Puschkinplatz  7, 15306 Seelow";X-APPLE-RADIUS=49;X-TITLE=Altes Pfarrha
 us Seelow e.V.:geo:14.380413,52.533773
GEO:14.380413;52.533773
SUMMARY:Kindersommerfest CVJM Seelow
CLASS:PUBLIC
DESCRIPTION:\n\nKontakt:\n\nCVJM Oderbruch e.V. Familienzentrum \"Das Nest\
 "\nBerliner Str.  6\n15306 Seelow\nTelefon: +49  152 21690004\nEmail: nadi
 ne.poetschke@cvjm-oderbruch.de\n\nWeitere Informationen zur Veranstaltung:
  http://test.reiseregion-flaeming.de/veranstaltung/seenland-oder-spree/kin
 dersommerfest-cvjm-seelow
CATEGORIES:Fest / Brauchtum,Kinder und Jugendliche
DTSTAMP:20260421T155322Z
END:VEVENT
END:VCALENDAR