BEGIN:VCALENDAR
VERSION:2.0
PRODID:test.reiseregion-flaeming.de
BEGIN:VEVENT
UID:69e776d24aa0a
DTSTART:20260512T170000Z
SEQUENCE:0
TRANSP:OPAQUE
DTEND:20260512T190000Z
URL:http://test.reiseregion-flaeming.de/veranstaltung/ruppiner-seenland/pra
 na-erlebnisabend-und-meditation
LOCATION:Sportcenter & Sporthotel Neuruppin\, Trenckmannstraße 14\, 16816 
 Neuruppin
X-APPLE-STRUCTURED-LOCATION;VALUE=URI;X-ADDRESS="Sportcenter & Sporthotel N
 euruppin, Trenckmannstraße 14, 16816 Neuruppin";X-APPLE-RADIUS=49;X-TITLE
 =Sportcenter & Sporthotel Neuruppin:geo:12.804565,52.916774
GEO:12.804565;52.916774
SUMMARY:Prana-Erlebnisabend & Meditation
CLASS:PUBLIC
DESCRIPTION:**Prana-Erlebnisabend & Friedensmeditation** mit Master Sai Cho
 lleti\n\nBisher unentdeckte Fähigkeiten zur Selbstheilung kommen zum Vors
 chein!\n\nBeim Prana-Erlebnisabend führt Master Sai Cholleti in die Prinz
 ipien der Prana-Heilung ein\, einer Methode mit Jahrtausenden alten Wurzel
 n. Es wird live vor Ort experimentiert\, wie man Lebensenergie\, genannt P
 rana\, fühlbar machen – und diese für die Aktivierung der Selbstheilun
 gskräfte nutzen kann. Bei einer Publikums-Anwendung kann man die positive
 n Veränderungen durch die Methoden der Prana-Heilung direkt miterleben. E
 in Highlight zum Schluss ist die gemeinsame Friedensmeditation\, die tiefe
  innere Ruhe und Klarheit erfahrbar machen kann.\n\nKontakt:\n\nTara Angel
 ika Stauffer\nWalower Str. 26a\n17209 Leizen OT Woldzegarten\nTelefon: +49
  0176 49211873\nEmail: info@natur-yoga-fasten.de\nWebseite: https://prana-
 erlebnisabend.de/event/neuruppin\n\nWeitere Informationen zur Veranstaltun
 g: http://test.reiseregion-flaeming.de/veranstaltung/ruppiner-seenland/pra
 na-erlebnisabend-und-meditation
CATEGORIES:Lesung / Vortrag,Wellness / Gesundheit
DTSTAMP:20260421T130834Z
END:VEVENT
END:VCALENDAR