BEGIN:VCALENDAR
VERSION:2.0
PRODID:test.reiseregion-flaeming.de
BEGIN:VEVENT
UID:69e759c2a0034
DTSTART:20260424T170000Z
SEQUENCE:0
TRANSP:OPAQUE
DTEND:20260424T190000Z
URL:http://test.reiseregion-flaeming.de/veranstaltung/seenland-oder-spree/z
 wangsvereinigung-theater-und-diskussion-theater89
LOCATION:Burg Beeskow\, Konzertsaal\, Frankfurter Straße 23\, 15848 Beesko
 w
X-APPLE-STRUCTURED-LOCATION;VALUE=URI;X-ADDRESS="Burg Beeskow, Konzertsaal,
  Frankfurter Straße 23, 15848 Beeskow";X-APPLE-RADIUS=49;X-TITLE="Burg Be
 eskow, Konzertsaal":geo:14.252320,52.170558
GEO:14.252320;52.170558
SUMMARY:„Zwangsvereinigung“ Theater & Diskussion – theater89
CLASS:PUBLIC
DESCRIPTION:„Es bleibt uns ja nischt – außer Walter Ulbricht.“ Diese
 r Stoßseufzer ging im Volksmund umher\, um dem Mangel und den Mängeln de
 s SED-Regimes zumindest noch so etwas wie eine witzige Seite abzugewinnen.
  Doch gab es wirklich im April 1946 „nischt anderes“\, keine Alternati
 ve zu der Unterwerfung unter das Diktat Stalins? Das Theaterstück „Zwan
 gsvereinigung“ entstand zum 80. Jahrestag der Vereinigung von KPD und SP
 D zur SED.\n\nKontakt:\n\nBurg Beeskow\nFrankfurter Straße 23\n15848 Bees
 kow\nTelefon: +49 3366 352712\nEmail: info@burg-beeskow.com\n\nWeitere Inf
 ormationen zur Veranstaltung: http://test.reiseregion-flaeming.de/veransta
 ltung/seenland-oder-spree/zwangsvereinigung-theater-und-diskussion-theater
 89
CATEGORIES:Theater / Tanz / Kabarett,Lesung / Vortrag
DTSTAMP:20260421T110434Z
END:VEVENT
END:VCALENDAR