BEGIN:VCALENDAR
VERSION:2.0
PRODID:test.reiseregion-flaeming.de
BEGIN:VEVENT
UID:69e754240e1a8
DTSTART:20261115T090000Z
SEQUENCE:0
TRANSP:OPAQUE
DTEND:20261115T130000Z
URL:http://test.reiseregion-flaeming.de/veranstaltung/barnimer-land/sonntag
 stouren-in-die-schorfheide-gefuehrte-wanderung-carinhall-und-baerens-kirch
 hof
LOCATION:Kirche Friedrichswalde\, Dorfstraße 101\, 16247 Friedrichswalde
X-APPLE-STRUCTURED-LOCATION;VALUE=URI;X-ADDRESS="Kirche Friedrichswalde, Do
 rfstraße 101, 16247 Friedrichswalde";X-APPLE-RADIUS=49;X-TITLE=Kirche Fri
 edrichswalde:geo:13.706966,53.028709
GEO:13.706966;53.028709
SUMMARY:SonntagsTouren in die Schorfheide - Geführte Wanderung - Carinhall
  und Bärens Kirchhof
CLASS:PUBLIC
DESCRIPTION:Ein Bär? Mit einem eigenen Kirchhof? Mitten im tiefsten Wald d
 er Schorfheide? Man begibt sich auf eine Spurensuche\, die in die frühest
 en Zeiten der Mark führt - mit ihren Sagen und heiligen Orten.  \nEs füh
 rt der Weg zwischen zwei der schönsten Seen in der Region entlang.   \nAn
  den Überresten von Carinhall begegnet man dann einem dunklen Kapitel der
  Geschichte.   \nAuch Erich Honecker hat in dieser Gegend der Jagd gefrön
 t - bis zum Ende der DDR.   \nEine Wanderung durch wunderschöne Natur.\n\
 nTreffpunkt: 10.00 Uhr an der Kirche in Friedrichswalde.\n\nDauer: ca. 4 S
 tunden\, 8 km.\n\nBitte mit dem eigenen PKW anreisen.\n\nAnmeldung in der 
 Schorfheide-Info Joachimsthal bis Samstag 12.00 Uhr vor der Wanderung tele
 fonisch oder per Mail.\n\nKontakt:\n\nSchorfheide-Info in Joachimsthal\nT
 öpferstraße 1\n16247 Joachimsthal\nTelefon: +49 33361 64646\nEmail: br-j
 oachimsthal@web.de\n\nWeitere Informationen zur Veranstaltung: http://test
 .reiseregion-flaeming.de/veranstaltung/barnimer-land/sonntagstouren-in-die
 -schorfheide-gefuehrte-wanderung-carinhall-und-baerens-kirchhof
CATEGORIES:Exkursion / Wanderung
DTSTAMP:20260421T104036Z
END:VEVENT
END:VCALENDAR