BEGIN:VCALENDAR
VERSION:2.0
PRODID:test.reiseregion-flaeming.de
BEGIN:VEVENT
UID:69e7982d8f6b1
DTSTART:20261018T080000Z
SEQUENCE:0
TRANSP:OPAQUE
DTEND:20261018T120000Z
URL:http://test.reiseregion-flaeming.de/veranstaltung/barnimer-land/sonntag
 stouren-in-die-schorfheide-gefuehrte-wanderung-gruen-trifft-stein
LOCATION:Historischer Kaiserbahnhof Joachimsthal\, Bahnhof Werbellinsee 2\,
  16247 Joachimsthal
X-APPLE-STRUCTURED-LOCATION;VALUE=URI;X-ADDRESS="Historischer Kaiserbahnhof
  Joachimsthal, Bahnhof Werbellinsee 2, 16247 Joachimsthal";X-APPLE-RADIUS=
 49;X-TITLE=Historischer Kaiserbahnhof Joachimsthal:geo:13.754738,52.963843
GEO:13.754738;52.963843
SUMMARY:SonntagsTouren in die Schorfheide - Geführte Wanderung „Grün tr
 ifft Stein“
CLASS:PUBLIC
DESCRIPTION:Die Wanderung beginnt am legendären Kaiserbahnhof\, einem arch
 itektonischen Schmuckstück der Schorfheide. Von dort geht es zum märchen
 haften Werbellinsee. Dann wandert man durch grüne Auen und tiefe Wälder 
 nach Joachimsthal. Begleiter sind geheimnisvolle Forststeine: Was ist wohl
  an den „Mörderbergen“ geschehen? Und auch der Heimatdichter Brunold 
 kommt natürlich zu Wort. \n\nAnreise mit RB 63 möglich.\n\nTreffpunkt: 1
 0.00 Uhr am Kaiserbahnhof.\n\nDauer: ca. 4 Stunden (10 km)\n\nAnmeldung in
  der Schorfheide-Info Joachimsthal bis Samstag 12.00 Uhr vor der Wanderung
  telefonisch oder per Mail.\n\nKontakt:\n\nSchorfheide-Info in Joachimstha
 l\nTöpferstraße 1\n16247 Joachimsthal\nTelefon: +49 33361 64646\nEmail: 
 br-joachimsthal@web.de\n\nWeitere Informationen zur Veranstaltung: http://
 test.reiseregion-flaeming.de/veranstaltung/barnimer-land/sonntagstouren-in
 -die-schorfheide-gefuehrte-wanderung-gruen-trifft-stein
CATEGORIES:Exkursion / Wanderung
DTSTAMP:20260421T153053Z
END:VEVENT
END:VCALENDAR