BEGIN:VCALENDAR
VERSION:2.0
PRODID:test.reiseregion-flaeming.de
BEGIN:VEVENT
UID:69e4addc271b3
DTSTART:20260913T090000Z
SEQUENCE:0
TRANSP:OPAQUE
DTEND:20260913T110000Z
URL:http://test.reiseregion-flaeming.de/veranstaltung/barnimer-land/sonntag
 stouren-in-die-schorfheide-gefuehrte-wanderung-kaiserrundweg-mit-quelle
LOCATION:Historischer Kaiserbahnhof Joachimsthal\, Bahnhof Werbellinsee 2\,
  16247 Joachimsthal
X-APPLE-STRUCTURED-LOCATION;VALUE=URI;X-ADDRESS="Historischer Kaiserbahnhof
  Joachimsthal, Bahnhof Werbellinsee 2, 16247 Joachimsthal";X-APPLE-RADIUS=
 49;X-TITLE=Historischer Kaiserbahnhof Joachimsthal:geo:13.754738,52.963843
GEO:13.754738;52.963843
SUMMARY:SonntagsTouren in die Schorfheide - Geführte Wanderung - Kaiserrun
 dweg mit Quelle
CLASS:PUBLIC
DESCRIPTION:Auf den Spuren des letzten deutschen Kaisers wandert man zum he
 rrlichen Werbellinsee. Vom Kaiserbahnhof führt der Weg bis an die Nordspi
 tze des Sees\, von hier hat man einen fantastischen Blick. Danach geht es 
 weiter zur alte Quelle und auf der Rücktour erfährt man Interessantes ü
 ber das ehemalige Wildgehege und den Naturfotografen Horst Siewert. Je nac
 h Wasserstand des Grimnitzsees kann man den kleinen Wasserfall am Weg best
 aunen.   \nZurück am Kaiserbahnhof erlebt man den historischen Bahnhof un
 d die poetischen Bahnhofslaternen bei einer kleinen Führung\, anlässlich
  des Tages des offenen Denkmals.\n\nAnreise mit RB 63 möglich.\n\nTreffpu
 nkt: 11.00 Uhr am Kaiserbahnhof.\n\nDauer: ca. 2 Stunden (5 km)\n\nAnmeldu
 ng in der Schorfheide-Info Joachimsthal bis Samstag 12.00 Uhr vor der Wand
 erung telefonisch oder per Mail.\n\nKontakt:\n\nSchorfheide-Info in Joachi
 msthal\nTöpferstraße 1\n16247 Joachimsthal\nTelefon: +49 33361 64646\nEm
 ail: br-joachimsthal@web.de\n\nWeitere Informationen zur Veranstaltung: ht
 tp://test.reiseregion-flaeming.de/veranstaltung/barnimer-land/sonntagstour
 en-in-die-schorfheide-gefuehrte-wanderung-kaiserrundweg-mit-quelle
CATEGORIES:Exkursion / Wanderung
DTSTAMP:20260419T102636Z
END:VEVENT
END:VCALENDAR