BEGIN:VCALENDAR
VERSION:2.0
PRODID:test.reiseregion-flaeming.de
BEGIN:VEVENT
UID:69e771c22a0e7
DTSTART:20260704T170000Z
SEQUENCE:0
TRANSP:OPAQUE
DTEND:20260704T200000Z
URL:http://test.reiseregion-flaeming.de/veranstaltung/lausitzer-seenland/we
 inlust-auf-dem-baerwalder-see
LOCATION:Bärwalder Schiffs GmbH\, Marina Klitten  3\, 02943 Boxberg OL
X-APPLE-STRUCTURED-LOCATION;VALUE=URI;X-ADDRESS="Bärwalder Schiffs GmbH, M
 arina Klitten  3, 02943 Boxberg OL";X-APPLE-RADIUS=49;X-TITLE=Bärwalder S
 chiffs GmbH:geo:14.556423,51.359864
GEO:14.556423;51.359864
SUMMARY:WeinLust auf dem Bärwalder See
CLASS:PUBLIC
DESCRIPTION:Erlebe einen besonderen Sommerabend an Bord unseres Schiffes un
 d begebt euch auf eine unvergessliche Weinreise über den Bärwalder See. 
 Während der 1\,5-stündigen Fahrt und dem entspannten Ausklang an Bord er
 wartet euch eine exklusive Weinverkostung mit erlesenen Tropfen\, präsent
 iert von der Weinexpertin der Weinhandlung Flicke aus Niesky.\n\nAlternati
 v\, für die Autofahrer\, genießt ihr eine stilvolle alkoholfreie Genussf
 ahrt: edle Virgin-Alternativen\, feines Fingerfood und entspannte Lounge-A
 tmosphäre – leichter Genuss und Seemomente zum Wohlfühlen.\n\n \n\nWir
  freuen uns auf eure Reservierung!\n\nKontakt:\n\nBärwalder Schiffs GmbH\
 nPatrick Schmidt\nMarina Klitten 3\n02943 Boxberg OL\nTelefon: +49 152 262
 37927\nEmail: info@msseelust.de\nWebseite: https://msseelust.de/\n\nWeiter
 e Informationen zur Veranstaltung: http://test.reiseregion-flaeming.de/ver
 anstaltung/lausitzer-seenland/weinlust-auf-dem-baerwalder-see
CATEGORIES:Essen und Trinken,Rund ums Wasser
DTSTAMP:20260421T124658Z
END:VEVENT
END:VCALENDAR