BEGIN:VCALENDAR
VERSION:2.0
PRODID:test.reiseregion-flaeming.de
BEGIN:VEVENT
UID:69e759ca3c093
DTSTART:20260606T170000Z
SEQUENCE:0
TRANSP:OPAQUE
DTEND:20260606T200000Z
URL:http://test.reiseregion-flaeming.de/veranstaltung/lausitzer-seenland/wh
 iskylust-auf-dem-baerwalder-see
LOCATION:Bärwalder Schiffs GmbH\, Marina Klitten  3\, 02943 Boxberg OL
X-APPLE-STRUCTURED-LOCATION;VALUE=URI;X-ADDRESS="Bärwalder Schiffs GmbH, M
 arina Klitten  3, 02943 Boxberg OL";X-APPLE-RADIUS=49;X-TITLE=Bärwalder S
 chiffs GmbH:geo:14.556423,51.359864
GEO:14.556423;51.359864
SUMMARY:WhiskyLust auf dem Bärwalder See
CLASS:PUBLIC
DESCRIPTION:Genießen Sie eine 1\,5 stündige Panorama-Schifffahrt mit erle
 senen Whiskysorten aus aller Welt\, feinen Häppchen und entspannten Auskl
 ang an Bord. Hochwertiger Genuss\, exzellenter Service und Seeblick pur. F
 ür die Autofahrer auch als Virgin-Variante mit kreativen alkoholfreien Dr
 inks buchbar.\n\n \n\nDa es nur begrenzte Plätze gibt bitten wir Sie um f
 rühzeitige Reservierung.\n\nKontakt:\n\nBärwalder Schiffs GmbH\nPatrick 
 Schmidt\nMarina Klitten 3\n02943 Boxberg OL\nTelefon: +49 152 26237927\nEm
 ail: info@msseelust.de\nWebseite: https://msseelust.de/\n\nWeitere Informa
 tionen zur Veranstaltung: http://test.reiseregion-flaeming.de/veranstaltun
 g/lausitzer-seenland/whiskylust-auf-dem-baerwalder-see
CATEGORIES:Essen und Trinken,Rund ums Wasser
DTSTAMP:20260421T110442Z
END:VEVENT
END:VCALENDAR