BEGIN:VCALENDAR
VERSION:2.0
PRODID:test.reiseregion-flaeming.de
BEGIN:VEVENT
UID:69e759bd441cf
DTSTART:20260705T090000Z
SEQUENCE:0
TRANSP:OPAQUE
DTEND:20260705T160000Z
URL:http://test.reiseregion-flaeming.de/veranstaltung/havelland/das-sommerf
 est-der-christian-morgenstern-gesellschaft-ev
LOCATION:Christian-Morgenstern Museum\, Hoher Weg 150\, 14542 Werder (Havel
 )
X-APPLE-STRUCTURED-LOCATION;VALUE=URI;X-ADDRESS="Christian-Morgenstern Muse
 um, Hoher Weg 150, 14542 Werder (Havel)";X-APPLE-RADIUS=49;X-TITLE=Christi
 an-Morgenstern Museum:geo:12.928592,52.379592
GEO:12.928592;52.379592
SUMMARY:Das Sommerfest der Christian-Morgenstern-Gesellschaft e.V.
CLASS:PUBLIC
DESCRIPTION:Ein buntes Programm mit Musik\, Rezitation\, Rap und Malerei.\n
 \nSchreibwerkstatt\, Rezitationswettbewerb\n\nIllustrationen zu Morgenster
 n-Gedichten \n\nJunge und alte Morgensterne zeigen ihr Können!\n\nKontakt
 :\n\nChristian-Morgenstern-Gesellschaft e.V.\nHoher Weg 150\n14542 Werder 
 (Havel)\nTelefon: +49 03327 7415568\nEmail: info@morgensterngesellschaft.d
 e\nWebseite: https://www.christian-morgenstern-gesellschaft.de/\n\nWeitere
  Informationen zur Veranstaltung: http://test.reiseregion-flaeming.de/vera
 nstaltung/havelland/das-sommerfest-der-christian-morgenstern-gesellschaft-
 ev
CATEGORIES:Lesung / Vortrag
DTSTAMP:20260421T110429Z
END:VEVENT
END:VCALENDAR