BEGIN:VCALENDAR
VERSION:2.0
PRODID:test.reiseregion-flaeming.de
BEGIN:VEVENT
UID:69e7c3bdcb930
DTSTART:20260501T080000Z
SEQUENCE:0
TRANSP:OPAQUE
DTEND:20260501T160000Z
URL:http://test.reiseregion-flaeming.de/veranstaltung/lausitzer-seenland/fr
 uehlingsfest
LOCATION:Krabat-Mühle\, Koselbruch 22\, 02977 Hoyerswerda
X-APPLE-STRUCTURED-LOCATION;VALUE=URI;X-ADDRESS="Krabat-Mühle, Koselbruch 
 22, 02977 Hoyerswerda";X-APPLE-RADIUS=49;X-TITLE=Krabat-Mühle:geo:14.1491
 61,51.428483
GEO:14.149161;51.428483
SUMMARY:Frühlingsfest
CLASS:PUBLIC
DESCRIPTION:**\"Sorbischer Frühling – Tradition trifft Moderne\"**\n\n\\
 - unter diesem Motto steht das diesjährige Frühlingsfest. Sorbische Kult
 ur\, Musik und Brauchtum im modernen Format\, doch historischen Rahmen: so
  präsentiert sich unser beliebtes Frühlingsfest für alle Generationen. 
 Vor allem junge Familien können bei uns aktiv und sowohl kreativ als auch
  spielerisch tätig werden. Unsere Gastronomie möchte gern ihre kreative 
 Seite präsentieren und freut sich auf die Verwirklichung neuer Ideen.\n\n
 **Einlaß auf das Gelände ab 10.00 Uhr**\n\n**Eintritt: 5\,00 €/ ermä
 ßigt 3\,00 €  **\n\n**NEU: Familienticket: 14\,00 € (2 Erwachsene + 2
  Kinder im Alter von 7 bis 12 Jahren)**\n\n \n\n_Unser Programm im Detail:
 _\n\n10:30 Uhr              Eröffnung\n\n11:00-13:00 Uhr    Hutbergmusika
 nten\n\n13:45-14:45 Uhr    Schwarzkollmer Tanzgruppe\n\n15:15-16:00 Uhr   
  Jan & Wero\n\nAbschlußkonzert: \n\n16:30-18:00 Uhr    Akustik Rock Trio\
 n\nZwischen den Auftritten erfahren Sie von unseren Moderatoren immer wied
 er Spannendes zu den sorbischen Frühlingsbräuchen\, welche wir hier in S
 chwarzkollm noch immer aktiv feiern\, dem Einfluß des Jahreskalenders auf
  die Farben der Hoyerswerdaer Trachten und natürlich vieles zu unserer KR
 ABAT-Mühle.\n\nKontakt:\n\nKrabatmühle Schwarzkollm\nKoselbruch 22\n0297
 7 Hoyerswerda\nTelefon: +49 35722 951133\nEmail: \n\nWeitere Informationen
  zur Veranstaltung: http://test.reiseregion-flaeming.de/veranstaltung/laus
 itzer-seenland/fruehlingsfest
CATEGORIES:Fest / Brauchtum,Fest / Brauchtum,Chor / Folklore / Volksmusik,M
 arkt
DTSTAMP:20260421T183646Z
END:VEVENT
END:VCALENDAR