BEGIN:VCALENDAR
VERSION:2.0
PRODID:test.reiseregion-flaeming.de
BEGIN:VEVENT
UID:69e776cf25f01
DTSTART:20260620T150000Z
SEQUENCE:0
TRANSP:OPAQUE
DTEND:20260620T170000Z
URL:http://test.reiseregion-flaeming.de/veranstaltung/havelland/vortrag-von
 -bernd-fredrich-wilhelm-busch-sein-leben-in-gedichten
LOCATION:Christian-Morgenstern Museum\, Hoher Weg 150\, 14542 Werder (Havel
 )
X-APPLE-STRUCTURED-LOCATION;VALUE=URI;X-ADDRESS="Christian-Morgenstern Muse
 um, Hoher Weg 150, 14542 Werder (Havel)";X-APPLE-RADIUS=49;X-TITLE=Christi
 an-Morgenstern Museum:geo:12.928592,52.379592
GEO:12.928592;52.379592
SUMMARY:Vortrag von Bernd Fredrich: Wilhelm Busch – sein Leben in Gedicht
 en
CLASS:PUBLIC
DESCRIPTION:„Einszweidrei im Sauseschritt…“ Wilhelm Busch – sein Le
 ben in Gedichten\n\nJeder kennt solche Zweizeiler wie: „Vater werden ist
  nicht schwer\, Vater sein dagegen sehr“ oder: „Musik wird störend of
 t empfunden\, weil sie stets mit Geräusch verbunden.“ oder: „Denn Rot
 wein ist für alte Knaben eine von den schönsten Gaben.“ Aber ist W.B. 
 auch als wirklich großer und bedeutender deutschen Dichter bekannt? Gar a
 ls Philosoph? Was war er für ein Mensch? War er wirklich ein Weiberfeind 
 und Einsiedler?\n\nKontakt:\n\nChristian-Morgenstern-Gesellschaft e.V.\nHo
 her Weg 150\n14542 Werder (Havel)\nTelefon: +49 03327 7415568\nEmail: info
 @morgensterngesellschaft.de\nWebseite: https://www.christian-morgenstern-g
 esellschaft.de/\n\nWeitere Informationen zur Veranstaltung: http://test.re
 iseregion-flaeming.de/veranstaltung/havelland/vortrag-von-bernd-fredrich-w
 ilhelm-busch-sein-leben-in-gedichten
CATEGORIES:Lesung / Vortrag
DTSTAMP:20260421T130831Z
END:VEVENT
END:VCALENDAR