BEGIN:VCALENDAR
VERSION:2.0
PRODID:test.reiseregion-flaeming.de
BEGIN:VEVENT
UID:69e79ef8a0d33
DTSTART:20260619T160000Z
SEQUENCE:0
TRANSP:OPAQUE
DTEND:20260619T170000Z
URL:http://test.reiseregion-flaeming.de/veranstaltung/uckermark/klezmer-mus
 ik-mit-dem-ensemble-bohai-berlin-zur-schwedter-mittsommernacht
LOCATION:Evangelische Kirche St. Katharinen\, Oderstraße 35\, 16303 Schwed
 t/Oder
X-APPLE-STRUCTURED-LOCATION;VALUE=URI;X-ADDRESS="Evangelische Kirche St. Ka
 tharinen, Oderstraße 35, 16303 Schwedt/Oder";X-APPLE-RADIUS=49;X-TITLE=Ev
 angelische Kirche St. Katharinen:geo:14.287557,53.056800
GEO:14.287557;53.056800
SUMMARY:Klezmer-Musik mit dem Ensemble bohai (Berlin) zur Schwedter Mittsom
 mernacht
CLASS:PUBLIC
DESCRIPTION:Mitreißende und emotionale Klezmer-Musik sorg für einen schwu
 ngvollen Einstieg in die weiteren Veranstaltungen der traditionellen Mitts
 ommernacht in Schwedt.\n\nKontakt:\n\nEvangelische Kirchengemeinde St. Kat
 harinen Schwedt\nOderstraße 18\n16303 Schwedt\nTelefon: +49 3332 22083\nE
 mail: evpfarramt@swschwedt.de\n\nWeitere Informationen zur Veranstaltung: 
 http://test.reiseregion-flaeming.de/veranstaltung/uckermark/klezmer-musik-
 mit-dem-ensemble-bohai-berlin-zur-schwedter-mittsommernacht
CATEGORIES:Klassisches Konzert / Oper,Kinder und Jugendliche,Chor / Folklor
 e / Volksmusik
DTSTAMP:20260421T155952Z
END:VEVENT
END:VCALENDAR