BEGIN:VCALENDAR
VERSION:2.0
PRODID:test.reiseregion-flaeming.de
BEGIN:VEVENT
UID:69e4e3fa864e8
DTSTART:20260829T130000Z
SEQUENCE:0
TRANSP:OPAQUE
DTEND:20260829T220000Z
URL:http://test.reiseregion-flaeming.de/veranstaltung/lausitzer-seenland/tr
 oedelmarkt-und-volleyballturnier-mit-anschliessendem-sommertanz
LOCATION:Sportplatz Kringelsdorf\, Rietschener Straße 17 a\, 02943 Boxberg
  OL
X-APPLE-STRUCTURED-LOCATION;VALUE=URI;X-ADDRESS="Sportplatz Kringelsdorf, R
 ietschener Straße 17 a, 02943 Boxberg OL";X-APPLE-RADIUS=49;X-TITLE=Sport
 platz Kringelsdorf:geo:14.613106,51.384406
GEO:14.613106;51.384406
SUMMARY:Trödelmarkt und Volleyballturnier mit anschließendem Sommertanz
CLASS:PUBLIC
DESCRIPTION:Ab 15:00 Uhr    **  Trödelmarkt -** Wir freuen uns sehr über 
 zahlreiche Anmeldungen für einen eigenen Stand. Die Standgebühr beträgt
  faire 5\,00€. Der Aufbau kann ganz entspannt zwischen 13 und 15:00 Uhr 
 erfolgen. _Bitte beachtet_ : Die Betreuung der Stände liegen in Eigenvera
 ntwortung!\n\nauch 15:00 Uhr   **Volleyballturnier -** Wer Lust auf sportl
 ichen Teamgeist hat\, kann sich ab sofort anmelden. Die Anzahl der teilneh
 menden Mannschaften ist begrenzt\, denn \"Wer zuerst kommt \, der mahlt zu
 erst\".\n\nAb 19:00 Uhr      **Sommertanz -** Wir feiern das Sommer-Feelin
 g mit DJ Rabbity und verwandeln den Abend in eine unvergessliche Party. Ko
 mmt vorbei und tanzt mit uns in den Sonnenuntergang!\n\nKontakt:\n\nHeimat
 verein Kringelsdorf e. V.\nKarsten Güttler\nAm Sportplatz\n02943 Boxberg/
 O.L.\nTelefon: +49 151 57776146\nEmail: hvkringelsdorf@gmail.com\n\nWeiter
 e Informationen zur Veranstaltung: http://test.reiseregion-flaeming.de/ver
 anstaltung/lausitzer-seenland/troedelmarkt-und-volleyballturnier-mit-ansch
 liessendem-sommertanz
CATEGORIES:Markt,Sport
DTSTAMP:20260419T141730Z
END:VEVENT
END:VCALENDAR