BEGIN:VCALENDAR
VERSION:2.0
PRODID:test.reiseregion-flaeming.de
BEGIN:VEVENT
UID:69e769b3aec74
DTSTART:20260508T160000Z
SEQUENCE:0
TRANSP:OPAQUE
DTEND:20260508T183000Z
URL:http://test.reiseregion-flaeming.de/veranstaltung/lausitzer-seenland/vo
 rtrag-mit-birgitte-haraszin-zur-die-industieentwicklung-der-historischen-s
 tandesherrschaft-muskau
LOCATION:Swjela-Scheune Nochten\, Paul-Schneider-Weg 74\, 02943 Boxberg OL
X-APPLE-STRUCTURED-LOCATION;VALUE=URI;X-ADDRESS="Swjela-Scheune Nochten, Pa
 ul-Schneider-Weg 74, 02943 Boxberg OL";X-APPLE-RADIUS=49;X-TITLE=Swjela-Sc
 heune Nochten:geo:14.598478,51.431578
GEO:14.598478;51.431578
SUMMARY:Vortrag mit Birgitte Haraszin zur \"Die Industieentwicklung der his
 torischen Standesherrschaft Muskau\"
CLASS:PUBLIC
DESCRIPTION:Die langjährige Parkführerin bei der Stiftung \"Fürst-Pückl
 er-Park Bad Muskau\" und überaus kundige Referentin regionaler Themen\, l
 äd zum Streifzug durch Geschichte und Geschichten in die Swjela-Scheune e
 in. Fundiert und unterhaltsam wird sie auch Kennern der Region die Augen f
 ür heimische Schätze öffnen.\n\nKontakt:\n\nVerein Swjela-Scheune Nocht
 en e.V.\nReik Pietsch\nPaul-Schneider-Weg 74\n02943 Boxberg OL\nTelefon: +
 49 162 4292371\nEmail: \nWebseite: https://scheune-nochten.de/\n\nWeitere 
 Informationen zur Veranstaltung: http://test.reiseregion-flaeming.de/veran
 staltung/lausitzer-seenland/vortrag-mit-birgitte-haraszin-zur-die-industie
 entwicklung-der-historischen-standesherrschaft-muskau
CATEGORIES:Lesung / Vortrag
DTSTAMP:20260421T121235Z
END:VEVENT
END:VCALENDAR