BEGIN:VCALENDAR
VERSION:2.0
PRODID:test.reiseregion-flaeming.de
BEGIN:VEVENT
UID:69e61c2a0f4d3
DTSTART:20260531T090000Z
SEQUENCE:0
TRANSP:OPAQUE
DTEND:20260531T123000Z
URL:http://test.reiseregion-flaeming.de/veranstaltung/flaeming/erlebnistour
 -durch-die-neuendorfer-rummel
LOCATION:Bushaltestelle\, Hauptstraße\, 14823 Rädigke
X-APPLE-STRUCTURED-LOCATION;VALUE=URI;X-ADDRESS="Bushaltestelle, Hauptstra
 ße, 14823 Rädigke";X-APPLE-RADIUS=49;X-TITLE=Bushaltestelle:geo:12.62497
 0,52.054308
GEO:12.624970;52.054308
SUMMARY:ErlebnisTour: Durch die Neuendorfer Rummel
CLASS:PUBLIC
DESCRIPTION:Tour 11 des 19. Naturpark-Wanderfestes mit Ziel Stadtfest Nieme
 gk  \n \n\nAuf eine Wanderung durch eine der eindrucksvollsten Landschafts
 formen des Hohen Flämings lädt Hartmut König vom Märkischen Wanderbund
  beim 19. Naturpark-Wanderfest ein – durch die Neuendorfer Rummel.   \nS
 tartpunkt ist Rädigke\, der Sage nach der älteste von Slawen gegründete
  Ort im Hohen Fläming. Die Tour führt durch ein Naturerlebnis besonderer
  Art: Die sogenannten Rummeln – schmale\, teils bis zu 20 Meter tief ein
 geschnittene Trockentäler – entstanden in der Eiszeit und wurden durch 
 Wassererosion nach mittelalterlichen Abholzungen weiter vertieft. Heute si
 nd sie dicht bewaldet und bilden geheimnisvolle grüne Schluchten\, die ih
 re Besucher in eine stille\, wild-romantische Welt entführen.  \nNach 13\
 ,5 Kilometern wird das Ziel der Wanderung erreicht: das Stadtfest im Fläm
 ingstädtchen Niemegk.  \n  \nTreff:  Rädigke\, Bushaltestelle  \nStart: 
  11:00 Uhr  \nDauer: 13\,5 km (4 km/h)  \nWanderleitung:   Hartmut König\
 , Märkischer Wanderbund e.V.  \n \n\nDiese Führung ist ein Angebot der 
 „Ranger- und Erlebnistouren\".\n\nKontakt:\n\nNaturparkzentrum Hoher Fl
 äming\nNaturparkzentrum Hoher Fläming\nBrennereiweg 45\n14823 Rabenstein
 /Fläming\nTelefon: +49 33848 60004\nEmail: info@flaeming.net\n\nWeitere I
 nformationen zur Veranstaltung: http://test.reiseregion-flaeming.de/verans
 taltung/flaeming/erlebnistour-durch-die-neuendorfer-rummel
CATEGORIES:Fest / Brauchtum,Exkursion / Wanderung
DTSTAMP:20260420T122930Z
END:VEVENT
END:VCALENDAR