BEGIN:VCALENDAR
VERSION:2.0
PRODID:test.reiseregion-flaeming.de
BEGIN:VEVENT
UID:69e61c27a8700
DTSTART:20260531T070000Z
SEQUENCE:0
TRANSP:OPAQUE
DTEND:20260531T101500Z
URL:http://test.reiseregion-flaeming.de/veranstaltung/flaeming/erlebnistour
 -die-plane-abwaerts-zum-fest
LOCATION:Bushaltestelle\, Brennereiweg 45\, 14823 Raben
X-APPLE-STRUCTURED-LOCATION;VALUE=URI;X-ADDRESS="Bushaltestelle, Brennereiw
 eg 45, 14823 Raben";X-APPLE-RADIUS=49;X-TITLE=Bushaltestelle:geo:12.577941
 ,52.041474
GEO:12.577941;52.041474
SUMMARY:ErlebnisTour: Die Plane abwärts zum Fest
CLASS:PUBLIC
DESCRIPTION:Tour 9 des 19. Naturpark-Wanderfestes mit Ziel Stadtfest Niemeg
 k\n\nGemeinsam mit Wanderleiterin Helga Liebau vom SV Empor Berlin e.V. ge
 ht es beim 19. Naturpark-Wanderfest auf eine abwechslungsreiche Wanderung 
 entlang der Plane\, einem der klarsten\, sommerkalten Bachläufe Brandenbu
 rgs.\n\nDie 13 Kilometer lange Tour führt durch das Naturschutzgebiet Pla
 netal: Der stark mäandrierende Bach\, Quellhorizonte\, Moorwiesen\, Bruch
 wälder und Seggenriede bilden ein einzigartiges Landschaftsmosaik von gro
 ßer ökologischer Vielfalt. Zahlreiche Tierarten sind hier zu Hause – d
 arunter Eisvogel\, Gebirgsstelze und Kranich. Auch seltene Wasserbewohner 
 wie Bergmolch\, Bachneunauge und Forelle finden im klaren Wasser ideale Le
 bensbedingungen.\n\nZiel der Wanderung ist das Stadtfest in Niemegk\, wo d
 ie Teilnehmenden den Tag gemütlich ausklingen lassen können – mit Musi
 k\, regionalen Spezialitäten und festlicher Atmosphäre.\n\nTreff: Raben\
 , Bushaltestelle  \nStart:  09:00 Uhr  \nDauer: 13 km (4\,2 km/h)  \nWande
 rleitung:  Helga Liebenau\, SV Empor Berlin e.V.  \n  \nDiese Führung ist
  ein Angebot der „Ranger- und Erlebnistouren\".\n\nKontakt:\n\nHelga Lie
 benau (SV Empor Berlin e.V)\nAllendeweg 6\n12559 Berlin\nTelefon: +49 30 6
 5498710\nEmail: \n\nWeitere Informationen zur Veranstaltung: http://test.r
 eiseregion-flaeming.de/veranstaltung/flaeming/erlebnistour-die-plane-abwae
 rts-zum-fest
CATEGORIES:Fest / Brauchtum,Exkursion / Wanderung
DTSTAMP:20260420T122928Z
END:VEVENT
END:VCALENDAR