BEGIN:VCALENDAR
VERSION:2.0
PRODID:test.reiseregion-flaeming.de
BEGIN:VEVENT
UID:69e4d4c74e2fd
DTSTART:20260430T180000Z
SEQUENCE:0
TRANSP:OPAQUE
DTEND:20260501T000000Z
URL:http://test.reiseregion-flaeming.de/veranstaltung/seenland-oder-spree/f
 rankfurter-kneipennacht-spezial-skylounge
LOCATION:Skylounge Oderturm 24\, Logenstraße 8\, 15230 Frankfurt (Oder)
X-APPLE-STRUCTURED-LOCATION;VALUE=URI;X-ADDRESS="Skylounge Oderturm 24, Log
 enstraße 8, 15230 Frankfurt (Oder)";X-APPLE-RADIUS=49;X-TITLE=Skylounge O
 derturm 24:geo:14.552741,52.342156
GEO:14.552741;52.342156
SUMMARY:Frankfurter Kneipennacht Spezial - Skylounge
CLASS:PUBLIC
DESCRIPTION:Kneipennacht Spezial zu 5 Jahre Oderwelle.  \nDie Skylounge ers
 tmals Teil der Frankfurter Kneipennacht und öffnet ihre Türen für die T
 our.\n\nKontakt:\n\nSkylounge Oderturm 24\nLogenstraße 8\n15230 Frankfurt
  (Oder)\nTelefon: \nEmail: kontakt@skylounge24.de\nWebseite: https://skylo
 unge24.de\n\nWeitere Informationen zur Veranstaltung: http://test.reisereg
 ion-flaeming.de/veranstaltung/seenland-oder-spree/frankfurter-kneipennacht
 -spezial-skylounge
CATEGORIES:Rock / Pop / Jazz
DTSTAMP:20260419T131239Z
END:VEVENT
END:VCALENDAR