BEGIN:VCALENDAR
VERSION:2.0
PRODID:test.reiseregion-flaeming.de
BEGIN:VEVENT
UID:69e76b9590929
DTSTART:20260822T160000Z
SEQUENCE:0
TRANSP:OPAQUE
DTEND:20260822T180000Z
URL:http://test.reiseregion-flaeming.de/veranstaltung/lausitzer-seenland/kl
 einkunst-auf-dem-dorf-comedy-humorbuero-stefan-klucke
LOCATION:Swjela-Scheune Nochten\, Paul-Schneider-Weg 74\, 02943 Boxberg OL
X-APPLE-STRUCTURED-LOCATION;VALUE=URI;X-ADDRESS="Swjela-Scheune Nochten, Pa
 ul-Schneider-Weg 74, 02943 Boxberg OL";X-APPLE-RADIUS=49;X-TITLE=Swjela-Sc
 heune Nochten:geo:14.598478,51.431578
GEO:14.598478;51.431578
SUMMARY:Kleinkunst auf dem Dorf - Comedy Humorbüro Stefan Klucke
CLASS:PUBLIC
DESCRIPTION:Stefan Klucke ist ein gefragter Kabarettautor\, seine Texte und
  Lieder werden von vielen namhaften Bühnen und Künstlern der Republik au
 fgeführt.\n\nMit viel Witz und Humor!\n\nKontakt:\n\nVerein Swjela-Scheun
 e Nochten e.V.\nReik Pietsch\nPaul-Schneider-Weg 74\n02943 Boxberg OL\nTel
 efon: +49 162 4292371\nEmail: \nWebseite: https://scheune-nochten.de/\n\nW
 eitere Informationen zur Veranstaltung: http://test.reiseregion-flaeming.d
 e/veranstaltung/lausitzer-seenland/kleinkunst-auf-dem-dorf-comedy-humorbue
 ro-stefan-klucke
CATEGORIES:Theater / Tanz / Kabarett
DTSTAMP:20260421T122037Z
END:VEVENT
END:VCALENDAR