BEGIN:VCALENDAR
VERSION:2.0
PRODID:test.reiseregion-flaeming.de
BEGIN:VEVENT
UID:69e76b79a5801
DTSTART:20260822T140000Z
SEQUENCE:0
TRANSP:OPAQUE
DTEND:20260822T160000Z
URL:http://test.reiseregion-flaeming.de/veranstaltung/lausitzer-seenland/kl
 einkunst-auf-dem-dorf-tischmarionettentheater-figurentheater-mit-moritz-tr
 auzettel
LOCATION:Swjela-Scheune Nochten\, Paul-Schneider-Weg 74\, 02943 Boxberg OL
X-APPLE-STRUCTURED-LOCATION;VALUE=URI;X-ADDRESS="Swjela-Scheune Nochten, Pa
 ul-Schneider-Weg 74, 02943 Boxberg OL";X-APPLE-RADIUS=49;X-TITLE=Swjela-Sc
 heune Nochten:geo:14.598478,51.431578
GEO:14.598478;51.431578
SUMMARY:Kleinkunst auf dem Dorf - Tischmarionettentheater Figurentheater mi
 t Moritz Trauzettel
CLASS:PUBLIC
DESCRIPTION:Das Tischmarionettentheater ist die Kunst der kleinen Form mit 
 großer Wirkung. Ein einfacher Tisch als Spielfläche\, die Figuren an Fä
 den\, der Spieler sichtbar. Sehr unterhaltsame Kleinkunst.\n\nKontakt:\n\n
 Verein Swjela-Scheune Nochten e.V.\nReik Pietsch\nPaul-Schneider-Weg 74\n0
 2943 Boxberg OL\nTelefon: +49 162 4292371\nEmail: \nWebseite: https://sche
 une-nochten.de/\n\nWeitere Informationen zur Veranstaltung: http://test.re
 iseregion-flaeming.de/veranstaltung/lausitzer-seenland/kleinkunst-auf-dem-
 dorf-tischmarionettentheater-figurentheater-mit-moritz-trauzettel
CATEGORIES:Theater / Tanz / Kabarett
DTSTAMP:20260421T122009Z
END:VEVENT
END:VCALENDAR