BEGIN:VCALENDAR
VERSION:2.0
PRODID:test.reiseregion-flaeming.de
BEGIN:VEVENT
UID:69e75825d36f2
DTSTART:20260424T160000Z
SEQUENCE:0
TRANSP:OPAQUE
DTEND:20260424T190000Z
URL:http://test.reiseregion-flaeming.de/veranstaltung/lausitzer-seenland/re
 isevortrag-impressionen-china-stippvisite-teil-2-mit-dr-john-chris-pollack
LOCATION:Swjela-Scheune Nochten\, Paul-Schneider-Weg 74\, 02943 Boxberg OL
X-APPLE-STRUCTURED-LOCATION;VALUE=URI;X-ADDRESS="Swjela-Scheune Nochten, Pa
 ul-Schneider-Weg 74, 02943 Boxberg OL";X-APPLE-RADIUS=49;X-TITLE=Swjela-Sc
 heune Nochten:geo:14.598478,51.431578
GEO:14.598478;51.431578
SUMMARY:Reisevortrag \"Impressionen China - Stippvisite\" Teil 2 mit Dr. Jo
 hn Chris Pollack
CLASS:PUBLIC
DESCRIPTION:Der Arzt\, Dr. John Chris Pollack (Hoyerswerda) gibt ein rasant
 en Einblick in das Reich der Mitte. Historisch\, Modern\, Authentisch. Von
  der Großen Mauer\, Traditionen\, tiefe Eindrücke und kulinarische Kontr
 aste. Ein interessanter Vortrag für alle die China-Liebhaber und reisebeg
 eisterten.\n\nKontakt:\n\nVerein Swjela-Scheune Nochten e.V.\nReik Pietsch
 \nPaul-Schneider-Weg 74\n02943 Boxberg OL\nTelefon: +49 162 4292371\nEmail
 : \nWebseite: https://scheune-nochten.de/\n\nWeitere Informationen zur Ver
 anstaltung: http://test.reiseregion-flaeming.de/veranstaltung/lausitzer-se
 enland/reisevortrag-impressionen-china-stippvisite-teil-2-mit-dr-john-chri
 s-pollack
CATEGORIES:Lesung / Vortrag
DTSTAMP:20260421T105741Z
END:VEVENT
END:VCALENDAR