BEGIN:VCALENDAR
VERSION:2.0
PRODID:test.reiseregion-flaeming.de
BEGIN:VEVENT
UID:69e7b1d01dc18
DTSTART:20260426T090000Z
SEQUENCE:0
TRANSP:OPAQUE
DTEND:20260426T110000Z
URL:http://test.reiseregion-flaeming.de/veranstaltung/seenland-oder-spree/a
 usstellungseroeffnung-aufnahmezustand-sammlungszugaenge-aus-den-jahren-202
 1-2025
LOCATION:Brandenburgisches Landesmuseum für moderne Kunst\, Rathaushalle\,
  Marktplatz 1\, 15230 Frankfurt (Oder)
X-APPLE-STRUCTURED-LOCATION;VALUE=URI;X-ADDRESS="Brandenburgisches Landesmu
 seum für moderne Kunst, Rathaushalle, Marktplatz 1, 15230 Frankfurt (Oder
 )";X-APPLE-RADIUS=49;X-TITLE="Brandenburgisches Landesmuseum für moderne 
 Kunst, Rathaushalle":geo:14.554274,52.344211
GEO:14.554274;52.344211
SUMMARY:Ausstellungseröffnung: Aufnahmezustand. Sammlungszugänge aus den 
 Jahren 2021 - 2025
CLASS:PUBLIC
DESCRIPTION:Die Doppelausstellung „Aufnahmezustand“ in Frankfurt (Oder)
  und Cottbus konstelliert Werkgruppen quer durch alle Ausdrucksformen der 
 bildenden Kunst\, der Fotografie und Plakatkunst\, die in den letzten fün
 f Jahren durch Schenkung oder Ankauf für die Sammlung des BLMK gewonnen w
 erden konnten.\n\nMit Werken von Horst Bartnig\, Andrea Engelmann\, Ute Ma
 hler\, Ludwig Rauch\, Eckehart Ruthenberg\, Sven Schmidt u. a.\n\nKontakt:
 \n\nBrandenburgisches Landesmuseum für moderne Kunst\nCarl-Philipp-Emanue
 l-Bach-Straße 11\n15230 Frankfurt (Oder)\nTelefon: +49 335 4015629\nEmail
 : info-ffo@blmk.de\nWebseite: https://www.blmk.de\n\nWeitere Informationen
  zur Veranstaltung: http://test.reiseregion-flaeming.de/veranstaltung/seen
 land-oder-spree/ausstellungseroeffnung-aufnahmezustand-sammlungszugaenge-a
 us-den-jahren-2021-2025
CATEGORIES:Ausstellung
DTSTAMP:20260421T172016Z
END:VEVENT
END:VCALENDAR