BEGIN:VCALENDAR
VERSION:2.0
PRODID:test.reiseregion-flaeming.de
BEGIN:VEVENT
UID:69e6080d684b8
DTSTART:20260531T070000Z
SEQUENCE:0
TRANSP:OPAQUE
DTEND:20260531T154500Z
URL:http://test.reiseregion-flaeming.de/veranstaltung/flaeming/erlebnistour
 -feiern-zwischen-burg-und-rummel
LOCATION:Bushaltestelle\, Brennereiweg 45\, 14823 Raben
X-APPLE-STRUCTURED-LOCATION;VALUE=URI;X-ADDRESS="Bushaltestelle, Brennereiw
 eg 45, 14823 Raben";X-APPLE-RADIUS=49;X-TITLE=Bushaltestelle:geo:12.577941
 ,52.041474
GEO:12.577941;52.041474
SUMMARY:ErlebnisTour: Feiern zwischen Burg und Rummel
CLASS:PUBLIC
DESCRIPTION:Tour 8 des 19. Naturpark-Wanderfestes mit Ziel Stadtfest Niemeg
 k  \n \n\nWanderleiter Wolfgang Pagel vom Wandersportverein Rotation Berli
 n e. V. führt beim 19. Naturpark Wanderfest auf die längste Tour: 25 Kil
 ometer quer durch den Hohen Fläming!   \nVom Start führt die Route hinau
 f zur Burg Rabenstein\, die malerisch im gleichnamigen Naturschutzgebiet l
 iegt. Tiefe Schluchten\, mächtige Rotbuchen\, Eichen und Winterlinden pr
 ägen diesen alten Laubmischwald. Durch das Naturschutzgebiet Planetal mit
  der klaren Plane\, Bruchwäldern und Moorwiesen geht es weiter zum Stadtf
 est Niemegk – dem Zwischenziel mit Gelegenheit für eine Stärkung.   \n
 Danach führt der Weg durch das Adda Tal über Hohenwerbig zur eindrucksvo
 llen Neuendorfer Rummel\, einer bis zu 20 Meter tiefen\, bewaldeten Schluc
 ht. Das Ziel ist in Neuendorf erreicht.  \n  \nTreff:   Raben\, Bushaltest
 elle  \nStart:  09:00 Uhr  \nDauer: 12\,5 km bis Niemegk\, weiter 12\,5 km
  bis Neuendorf (4\,7 km/h)  \nAnmeldeschluss:   26.05.2026  \nWanderleitun
 g:   Wolfgang Pagel\, Wandersportverein Rotation Berlin e. V.   \n  \n  \n
 Diese Führung ist ein Angebot der „Ranger- und Erlebnistouren\".\n\nKon
 takt:\n\nDr. Wolfgang Pagel\, Wandersportverein Rotation Berlin e.V.\nBusc
 hiner Straße 25\n12683 Berlin\nTelefon: +49 172  96 73 116\nEmail: wolfga
 ng.pagel@berliner-wanderverband.de\n\nWeitere Informationen zur Veranstalt
 ung: http://test.reiseregion-flaeming.de/veranstaltung/flaeming/erlebnisto
 ur-feiern-zwischen-burg-und-rummel
CATEGORIES:Fest / Brauchtum,Exkursion / Wanderung
DTSTAMP:20260420T110341Z
END:VEVENT
END:VCALENDAR