BEGIN:VCALENDAR
VERSION:2.0
PRODID:test.reiseregion-flaeming.de
BEGIN:VEVENT
UID:69e78f714a38a
DTSTART:20260827T150000Z
SEQUENCE:0
TRANSP:OPAQUE
DTEND:20260827T210000Z
URL:http://test.reiseregion-flaeming.de/veranstaltung/barnimer-land/12-bern
 auer-gaukler-nacht-2026
LOCATION:Külzpark und Steintorvorplatz\, Am Steintor\, 16321 Bernau bei Be
 rlin
X-APPLE-STRUCTURED-LOCATION;VALUE=URI;X-ADDRESS="Külzpark und Steintorvorp
 latz, Am Steintor, 16321 Bernau bei Berlin";X-APPLE-RADIUS=49;X-TITLE=Kül
 zpark und Steintorvorplatz:geo:13.589674,52.676836
GEO:13.589674;52.676836
SUMMARY:12. Bernauer Gaukler-Nacht 2026
CLASS:PUBLIC
DESCRIPTION:Am 27. August wird die beliebte Gauklernacht auf dem Platz am S
 teintor und im Külzpark stattfinden. Initiator und Hauptsponsor WOBAU Ber
 nau ermöglicht mit einer Vielzahl von Partnerfirmen die 12. Auflage der b
 eliebten Bernauer Gauklernacht\, die alle zwei Jahre Tausende Besucher in 
 die Innenstadt zieht.\n\nDas Bernauer Gauklerspektakel macht seinem Namen 
 wieder alle Ehre. Artisten\, Akrobaten\, Jongleure\, Feuerspucker\, Comedi
 en und Gaukler ziehen die Besucher mit ihren Kunststücken und Späßen in
  ihren Bann. Auf mehreren Bühnen können die Besucher am Bernauer Steinto
 r und im Külzpark ein buntes abendfüllendes Programm erleben\, dass von 
 Bands verschiedenster Stilrichtungen bestimmt wird.\n\nFür das leibliche 
 Wohl wird mit regionalen Spezialitäten aus Pfanne\, Grill und Fass vielf
 ältig gesorgt.\n\nKontakt:\n\nWohnungs- und Baugesellschaft mbH Bernau\n\
 n \nTelefon: +49 3338 393410\nEmail: j.liebschwager@wobau-bernau.de\nWebse
 ite: http://www.wobau-bernau.de\n\nWeitere Informationen zur Veranstaltung
 : http://test.reiseregion-flaeming.de/veranstaltung/barnimer-land/12-berna
 uer-gaukler-nacht-2026
CATEGORIES:Fest / Brauchtum
DTSTAMP:20260421T145337Z
END:VEVENT
END:VCALENDAR