BEGIN:VCALENDAR
VERSION:2.0
PRODID:test.reiseregion-flaeming.de
BEGIN:VEVENT
UID:69e7eb5f4f2f1
DTSTART:20260919T090000Z
SEQUENCE:0
TRANSP:OPAQUE
DTEND:20260919T130000Z
URL:http://test.reiseregion-flaeming.de/veranstaltung/lausitzer-seenland/fo
 rst-im-aufbruch-gefuehrte-radtour-durch-dr-rudolf-kuehns-baukunst
LOCATION:Bahnhofsvorplatz Forst (Lausitz)\, Sorauer Straße  1\, 03149 Fors
 t (Lausitz)
X-APPLE-STRUCTURED-LOCATION;VALUE=URI;X-ADDRESS="Bahnhofsvorplatz Forst (La
 usitz), Sorauer Straße  1, 03149 Forst (Lausitz)";X-APPLE-RADIUS=49;X-TIT
 LE=Bahnhofsvorplatz Forst (Lausitz):geo:14.637794,51.739109
GEO:14.637794;51.739109
SUMMARY:Forst im Aufbruch – Geführte Radtour durch Dr. Rudolf Kühn’s 
 Baukunst
CLASS:PUBLIC
DESCRIPTION:Forst (Lausitz) war einst eine der bedeutendsten Textilstädte 
 Deutschlands und trug nicht ohne Grund den Beinamen „Manchester des Oste
 ns“. Innerhalb weniger Jahrzehnte entwickelte sich aus einem beschaulich
 en Ackerstädtchen eine dynamische Industriestadt mit beeindruckender arch
 itektonischer Vielfalt.\n\nIn den 1920er-Jahren übernahm Dr. Rudolf Kühn
  das Amt des Stadtbaurats. In einer Phase starken Wachstums schuf er dring
 end benötigten Wohnraum und prägte das Stadtbild nachhaltig. Dabei knüp
 fte er an die städtebaulichen Grundlagen an\, die bereits der sächsische
  Landbaumeister Johann Christoph Knöffel unter Heinrich von Brühl gelegt
  hatte.\n\nEntdecken Sie die Orte\, an denen Dr. Kühn seine städtebaulic
 hen Visionen verwirklichte. Die Route führt durch markante Wohnquartiere\
 , zu architektonischen Zeitzeugnissen der 1920er-Jahre und vermittelt span
 nende Einblicke in die Entwicklung der Stadt. Ein besonderes Highlight ist
  der Abstecher ins polnische Zasieki (ehemals Forst-Berge)\, wo Dr. Kühn 
 ebenfalls wirkte – auch wenn dort heute nur noch wenige Spuren erhalten 
 sind.\n\nErleben Sie Forst aus einer neuen Perspektive – aktiv\, informa
 tiv und geschichtlich fundiert!\n\n_Teilnahme & Hinweise:_\n\nLänge ca 25
  km\n\nAnreise einfach mit dem eigenen Fahrrad\n\nVoraussetzung ist ein ve
 rkehrssicheres Fahrrad\n\nDas Tragen eines Fahrradhelms wird ausdrücklich
  empfohlen\n\nWährend der gesamten Tour gilt die Straßenverkehrsordnung\
 n\nDie Teilnahme erfolgt eigenverantwortlich\n\nKontakt:\n\nTouristinforma
 tion Forst (Lausitz)\nCottbuser Straße 10\n03149 Forst (Lausitz)\nTelefon
 : +49 3562 989350\nEmail: tourismus@forst-lausitz.de\nWebseite: https://ww
 w.forst-lausitz.de\n\nWeitere Informationen zur Veranstaltung: http://test
 .reiseregion-flaeming.de/veranstaltung/lausitzer-seenland/forst-im-aufbruc
 h-gefuehrte-radtour-durch-dr-rudolf-kuehns-baukunst
CATEGORIES:Führung / Besichtigung
DTSTAMP:20260421T212551Z
END:VEVENT
END:VCALENDAR